BEGIN:VCALENDAR
METHOD:PUBLISH
VERSION:2.0
BEGIN:VEVENT
DTSTART:20250321T100000
DTEND:20250321T130000
DTSTAMP:20260423T215700
SUMMARY:Doctoral Defence: Lisa Verhasselt
DESCRIPTION:The Doctoral School in Humanities and Social Sciences is happy to invite you to Lisa Verhasselt’s defence entitled\n\n’Deliberative Democracy amidst the Tower of Babel‘\n\nSupervisor: Dr Raphaël Kies\n\nLocation: https://www.uni.lu/en/about/campuses/belval-campus/#buildings-in-detail\nRead more: https://www.uni.lu/research-en/events/doctoral-defence-lisa-verhasselt/
UID:UL-11834
LOCATION:Maison des Sciences Humaines - Black Box 11 - Porte des Sciences 4366 Esch-sur-Alzette Luxembourg
URL:https://www.uni.lu/research-en/events/doctoral-defence-lisa-verhasselt/
X-MS-OLK-AUTOFILLLOCATION:FALSE
END:VEVENT
END:VCALENDAR