BEGIN:VCALENDAR
METHOD:PUBLISH
VERSION:2.0
BEGIN:VEVENT
DTSTART:20250311T174500
DTEND:20250311T200000
DTSTAMP:20260423T134900
SUMMARY:The science of invisibility: Public lecture by Prof. Ulf Leonhardt, Weizmann Institute of Science
DESCRIPTION:Who would not like to be invisible sometimes? To escape embarrassing situations or to stroll around unseen, an invisibility cloak would come in handy. Can such things exist? What does science say about invisibility? People have dreamt about invisibility for millennia, but the science of invisibility is a rather recent endeavor. It began only twenty years ago.\n\nThe lecture will explain the first technological steps towards achieving invisibility in practice and the fascinating ideas behind this field of science. It will take the audience on a fantastic journey from the world of illusions and deceptions to the enigma of dark energy and the fate of the universe.\n\nAbout the speaker\n\nProf. Ulf Leonhardt, Weizmann Institute of Science, Israel. Distinguished IAS (Institute of Advance Studies).\n\nUlf Leonhardt joined the Weizmann Institute of Science as a Professor of Physics in November 2012 after an international career. Ulf Leonhardt was born in Schlema, in former East Germany, in 1965. He studied physics at Friedrich-Schiller University Jena, Moscow State University, and Humboldt University Berlin, where he received his PhD in 1993. He was a Visiting Scholar at the Oregon Center for Optics in the US, a Habilitation Fellow at the University of Ulm in Germany, and a Göran-Gustafson and Feodor-Lynen fellow at the Royal Institute of Technology in Stockholm, Sweden.\n\nFrom 2000 until 2012, he was the Chair of Theoretical Physics at the University of St Andrews, UK. Ulf Leonhardt also had various visiting positions: in 2008, he was a Visiting Professor at the National University of Singapore; in 2011, at the University of Vienna; in 2012/13 at South China Normal University; and in 2023, at the Technical University of Vienna. In 2025, he is a distinguished visitor at the Institute of Advanced Studies in Luxembourg.\n\nUlf Leonhardt is the first from former East Germany to receive the Otto Hahn Award from the Max Planck Society. For his PhD thesis, he received the Tiburtius Prize of the Senate of Berlin. In 2006, Scientific American listed him among the top 50 policy, business, and research leaders of the world of that year. In 2008, he received a Royal Society Wolfson Research Merit Award, and in 2009,\na Theo Murphy Blue Skies Award of the Royal Society. In 2012, he received a thousand-talent award from China. He is a Fellow of the Institute of Physics and the Royal Society of Edinburgh.\n\nDetails\n\nOnsite at Campus Limpertsberg,  where you will have the opportunity to meet the speaker over a cocktail offered from 19.00 to all registered participants (Bâtiment des Sciences ground floor). Talk at 17.45 in the hall BS 0.03.\n\nOnline – through Webex – to allow you to listen to the talk in case you are traveling or cannot make it on-site in Campus Limpertsberg.\nMeeting number: 2795 472 9710\nMeeting password: MGruehxj755\n\nFor organisational reasons, please register for the cocktail before 10 March 2025\n\nLocation: https://www.uni.lu/en/about/campuses/limpertsberg-campus/\nRead more: https://www.uni.lu/fstm-en/events/the-science-of-invisibility-public-lecture-ulf-leonhardt-weizmann-institute-of-science-israel/
UID:UL-36036
LOCATION:Campus Limpertsberg
URL:https://www.uni.lu/fstm-en/events/the-science-of-invisibility-public-lecture-ulf-leonhardt-weizmann-institute-of-science-israel/
X-MS-OLK-AUTOFILLLOCATION:FALSE
END:VEVENT
END:VCALENDAR