BEGIN:VCALENDAR
METHOD:PUBLISH
VERSION:2.0
BEGIN:VEVENT
DTSTART:20240131T173000
DTEND:20240131T200000
DTSTAMP:20260423T080500
SUMMARY:Moduli spaces: the mathematician’s toolkit for classifications
DESCRIPTION:Abstract\n\nMathematicians classify abstract objects, similar to how other scientists classify biological species, chemical elements, or stars.\nA classification can be discrete (and even finite), or it can be continuous. In the latter case, it is described using a moduli space. This is book-keeping device used by a mathematician, and it is itself a geometric object. Different points in the moduli space correspond to different objects that are being classified, in such a way that slightly perturbing the point in the space corresponds to slightly perturbing the classified object.\n\nI will survey the mathematician’s urge to classify objects, and how moduli spaces provide the perfect toolkit for this purpose. I will end with some examples from my own research.\n\nProgramme\n\n17.30 Introduction\n\n17.35 Lecture by Prof. Pieter Belmans\n\n18.15 Questions and Answers\n\n18.30 Cocktail\n\nBiography\n\nProf. Dr. Pieter Belmans started at the University of Luxembourg in August 2021, building up a research group on algebraic geometry, noncommutative algebra, and representation theory. Before joining the University of Luxembourg, he was a postdoc at the Universities of Bonn and Antwerp, and the Max Planck Institute in Bonn. His research focuses on understanding the similarities and differences between certain families of moduli spaces, and on noncommutative algebraic geometry. His work often features a computational component, in a usually highly abstract field. He is also very active in making mathematics accessible online, and creating interactive classification websites.\n\nRead more: https://www.uni.lu/fstm-en/events/moduli-spaces-themathematicians-toolkitfor-classifications/
UID:UL-6715
LOCATION:Belval Campus - room 3.070 4365 Belval Luxembourg 
URL:https://www.uni.lu/fstm-en/events/moduli-spaces-themathematicians-toolkitfor-classifications/
X-MS-OLK-AUTOFILLLOCATION:FALSE
END:VEVENT
END:VCALENDAR