BEGIN:VCALENDAR
METHOD:PUBLISH
VERSION:2.0
BEGIN:VEVENT
DTSTART:20240224T093000
DTEND:20240224T170000
DTSTAMP:20260425T195200
SUMMARY:Math Day 2024
DESCRIPTION:The University of Luxembourg will organise the third edition of the Math Day on 24 February 2024 in Belval. The event is made up of a mathematical competition followed by a workshop for high-school students.\n\n9.30-10.00\n\nOpening (instructions)\n\n10.00-12.00\n\nCompetition\n\n12.00-13.00\n\nLunch break\n\n13.00-16.00\n\nWorkshop (parallel groups)\n\n16.00-17.00\n\nClosing (discussion and prizes)\n\nRegistering is compulsory to attend the event.\n\nRead more: https://www.uni.lu/fstm-en/events/math-day-2024/
UID:UL-6531
LOCATION:Université du Luxembourg
Belval Campus
Maison du Savoir
2 - avenue de l'Université 4365 Esch-sur-Alzette Luxembourg
URL:https://www.uni.lu/fstm-en/events/math-day-2024/
X-MS-OLK-AUTOFILLLOCATION:FALSE
END:VEVENT
END:VCALENDAR