BEGIN:VCALENDAR
METHOD:PUBLISH
VERSION:2.0
BEGIN:VEVENT
DTSTART:20241121T180000
DTEND:20241121T194500
DTSTAMP:20260422T143300
SUMMARY:EU AI Act: Will implementation succeed? [AI Café 2024]
DESCRIPTION:AI Café debate series\n\nEU AI Act: Will implementation succeed?\n\nYasaman Yousefi, Doctoral candidate, Doctoral School on Law, Science, and Technology at University of Bologna + University of Luxembourg\n\nProf. Dr. Philippe Poirier, Titulaire de la Chaire de recherche en études parlementaires chez Université du Luxembourg\n\nDr. Sophie Klecker, Ministry of Economy\n\nRemarks\n\nThe entrance of the Auditoire Henri Beck (Cercle Cité) is located at 2, Rue Genistre, opposite the entrance of the Cité Bibliothèque. The Rue genistre is the small street on the left (opposite the façade) of the main entrance of the building. Go to the 5th floor! We start at 18.00. Admission is possible from 17.30. Please be there on time so we can start right on time.\n\nPlease note that there will be 2 polls where you will have to answer the debate question yourself at the beginning (poll 1) and at the end (poll 2). For this reason, we have prepared some ballots which we ask you to fill in by ticking YES or NO.\n\nThe evening will be shaped primarily by your participation. Please ask questions. This is what the event thrives on!\n\nAt the end of the evening, we will ask you for feedback (feedback letters, micro-trottoirs). Please help out.\n\nFinally, as the debate series is kindly supported by FNR and the deadline for project submission is early October, please indicate if we should repeat this project in 2024.\n\nThis event is part of the AI Café 2024 - Debate series + AI competition.\n\nLocation: https://maps.app.goo.gl/QhuWyDBpgqpMY7T66\nRead more: https://www.uni.lu/fstm-en/events/eu-ai-act-will-implementation-succeed-ai-cafe-2024/
UID:UL-25393
LOCATION:Cercle Cité - Auditorium Henri Beck - 5th floor 2 - Rue Genistre 1623 Luxembourg Luxembourg
URL:https://www.uni.lu/fstm-en/events/eu-ai-act-will-implementation-succeed-ai-cafe-2024/
X-MS-OLK-AUTOFILLLOCATION:FALSE
END:VEVENT
END:VCALENDAR