BEGIN:VCALENDAR
METHOD:PUBLISH
VERSION:2.0
BEGIN:VEVENT
DTSTART:20191120T140000
DTEND:20191120T160000
DTSTAMP:20260422T015400
SUMMARY:Trente ans après la fin de la Guerre froide: "La Russie et l'Occident - Bilan, leçons, nouveaux défis"
DESCRIPTION:Conférence du Dr Andreï Grachev (Russie) le 20 novembre 2019\n\nLa perestroïka, initiée par Mikhaïl Gorbatchev dans l’ex-URSS, afin de la démocratiser en accord avec l’époque moderne et d’éviter ainsi la crise terminale du système soviétique, exigeait la fin de la confrontation stérile et dangereuse avec l'Occident. En mettant un terme à la guerre froide, le leader soviétique espérait aussi obtenir l'intégration de son pays dans les structures de sécurité et de coopération collectives dans le cadre de la « maison commune européenne ». Or, trente ans après la chute du mur de Berlin, les relations entre la Russie de Vladimir Poutine et l'Occident sont toujours marquées par un climat de tension et de méfiance. Pourquoi?\n\nHistorien, politologue et journaliste russe, Dr Andrey Grachev a été consultant et directeur-adjoint du département international du comité central du Parti communiste de l'URSS (1974-1987), ainsi que conseiller et porte-parole du président Mikhaïl Gorbatchev jusqu'à la démission de ce dernier en décembre 1991. Par la suite, Dr Grachev a exercé comme chercheur senior à l'Institut d'économie mondiale et des relations internationales de l'Académie des sciences de Russie, à la Stiftung Wissenschaft und Politik (SWP) (Allemagne) et au St Antony's College (Université d’Oxford), ainsi qu'en tant que professeur invité à la Ritsumeikan University, Kyoto, à l’Université Paris VIII Saint-Denis et à Paris I Panthéon-Sorbonne. Actuellement, il est éditorialiste à la Novaïa Gazeta (Russie) et président du comité scientifique du New Policy Forum.\n\nDr. Grachev est l'auteur de nombreuses publications parues à travers le monde:\n\nPolitical extremism, Moscou (1982); L’histoire vraie de la fin de l’URSS, Éditions du Rocher : Paris (1992).\n\nLa chute du Kremlin. L’empire de non-sens, Hachette: Paris (1994).\n\nFinal Days. The Inside Story of the Collapse of the Soviet Union, Westview Press-Routledge (1995).\n\nL’Exception russe: Staline, est-il mort?, Éditions du Rocher : Paris (1998).\n\nLe mystère Gorbatchev. La Terre et le Destin, Éditions du Rocher : Paris (2004).\n\nGorbachev’s Gamble. Soviet Foreign Policy and the End of Cold War, Polity: Cambridge (2008).\n\nGorbatchev, le pari perdu? De la perestroïka à l’implosion de l’URSS. Préface d’Hubert Védrine. Armand Colin : Paris (2011).\n\nLe passé de la Russie est imprévisible. Journal de bord d’un enfant du dégel, Alma Éditeur : Paris (2014).\n\nUn nouvel avant-guerre ? Des hyperpuissances à l'hyperpoker, Alma Éditeur: Paris (2017).\n\nÉchos dans les médias\n\nRTL\n\nGalerie de photos\n\nEn savoir plus: https://www.uni.lu/fr/events/trente-ans-apres-la-fin-de-la-guerre-froide-la-russie-et-loccident-bilan-lecons-nouveaux-defis/
UID:UL-12759
LOCATION:Université de Luxembourg 2 Av. de l'Universite  4365 Belval Esch an der Alzette Luxembourg
URL:https://www.uni.lu/fr/events/trente-ans-apres-la-fin-de-la-guerre-froide-la-russie-et-loccident-bilan-lecons-nouveaux-defis/
X-MS-OLK-AUTOFILLLOCATION:FALSE
END:VEVENT
END:VCALENDAR