BEGIN:VCALENDAR
METHOD:PUBLISH
VERSION:2.0
BEGIN:VEVENT
DTSTART:20231122T183000
DTEND:20231122T203000
DTSTAMP:20260420T160500
SUMMARY:L’Université, il y a 20 ans
DESCRIPTION:Les Amis ont le grand plaisir de vous inviter à une manifestation en hommage à toutes celles et ceux qui ont créé l’Université du Luxembourg. La cérémonie se tiendra le mercredi 22 novembre 2023 à 18h30 à la salle Paul Feidert de l’Université du Luxembourg, Campus de Kirchberg. L’événement est ouvert au public.\n\nProgramme du mercredi 22 novembre :\n\nBienvenue par le Président des Amis de l’Université, Rolf Tarrach\n\n« Rétrospective des débuts » par Erna Hennicot-Schoepges, Ministre responsable de la loi portant création de l’Université\n\nTable ronde sur « Nos défis et rêves en 2003 » modérée par le Recteur Jens Kreisel avec les acteurs du moment :\nMassimo Malvetti, doyen | Lucien Kerger, doyen | Raymond Bisdorff, doyen | Jean-Paul Lehners, Recteur f.f. | Guy Poos, Secrétaire du Conseil de Gouvernance | Fernand Anton, Président de l’AECS, association des enseignants et chercheurs\n\n« L’Université du Luxembourg dans le cadre du processus de Bologne » par François Biltgen, Ministre responsable de l’Université\n\nRéflexions sur les 20 ans, par un des membres du Conseil de Gouvernance nommés en 2003, Gérard Hoffmann\n\nMot de clôture par le Président du Conseil de Gouvernance, Yves Elsen\n\nCocktail vers 20h15\n\nModération : Dominique Faber  | Documentation : Sascha Helsper | Organisation : Romain Penning\n\nLieu: http://amis-uni.lu/wp-content/uploads/2014/10/planUNIKIRCH.pdf\nEn savoir plus: https://www.uni.lu/fr/events/luniversite-il-y-a-20-ans/
UID:UL-4149
LOCATION:Salle Paul Feidert de l’Université du Luxembourg - Campus de Kirchberg 1359 Luxembourg Luxembourg
URL:https://www.uni.lu/fr/events/luniversite-il-y-a-20-ans/
X-MS-OLK-AUTOFILLLOCATION:FALSE
END:VEVENT
END:VCALENDAR