BEGIN:VCALENDAR
METHOD:PUBLISH
VERSION:2.0
BEGIN:VEVENT
DTSTART:20240513T183000
DTEND:20240513T200000
DTSTAMP:20260422T060500
SUMMARY:« Les enjeux futurs de l'Union européenne »
DESCRIPTION:Conférence-débat\n\nTilly METZ\n\nDéputée européenne\n\nIsabel WISELER-LIMA\n\nDéputée européenne\n\nInscriptions obligatoires\nEntrée libre\n\nCette conférence s'inscrit dans le cadre des Mois de l'Europe à Esch-sur-Alzette.\n\nPhoto de l'événement\n\n© Europe Direct Université du Luxembourg\n\nEn savoir plus: https://www.uni.lu/fr/events/les-enjeux-futurs-de-l-union-europeenne/
UID:UL-11332
LOCATION:Hôtel de Ville L-4002 Esch-sur-Alzette Luxembourg
URL:https://www.uni.lu/fr/events/les-enjeux-futurs-de-l-union-europeenne/
X-MS-OLK-AUTOFILLLOCATION:FALSE
END:VEVENT
END:VCALENDAR