BEGIN:VCALENDAR
METHOD:PUBLISH
VERSION:2.0
BEGIN:VEVENT
DTSTART:20240514T183000
DTEND:20240514T200000
DTSTAMP:20260425T140100
SUMMARY:« Le rôle de l'Union Européenne dans la situation géopolitique actuelle »
DESCRIPTION:Conférence-débat\n\nCharles GOERENS\n\nDéputé européen\nInscriptions obligatoires\nEntrée libre\n\nCette conférence s'inscrit dans le cadre des Mois de l'Europe à Esch-sur-Alzette.\n\nPhoto de l’événement\n\n© Europe Direct Université du Luxembourg\n\nEn savoir plus: https://www.uni.lu/fr/events/le-role-de-l-union-europeenne-dans-la-situation-geopolitique-actuelle/
UID:UL-11364
LOCATION:Hôtel de Ville L-4002 Esch-sur-Alzette Luxembourg
URL:https://www.uni.lu/fr/events/le-role-de-l-union-europeenne-dans-la-situation-geopolitique-actuelle/
X-MS-OLK-AUTOFILLLOCATION:FALSE
END:VEVENT
END:VCALENDAR