BEGIN:VCALENDAR
METHOD:PUBLISH
VERSION:2.0
BEGIN:VEVENT
DTSTART:20260314T090000
DTEND:20260314T170000
DTSTAMP:20260419T133200
SUMMARY:Journée portes ouvertes - Open Day 2026
DESCRIPTION:Venez découvrir l'Université du Luxembourg lors de notre journée portes ouvertes !\n\nNous vous invitons à participer à notre journée portes ouvertes afin de découvrir nos programmes d'études, visiter notre campus ultramoderne à Belval et échanger avec les étudiants et le personnel enseignant.\nQue vous soyez un·e futur·e étudiant·e, un parent ou que vous soyez simplement intéressé·e par notre université, venez découvrir tout ce que nous avons à offrir !\n\nLieu: https://www.uni.lu/fr/a-propos/campus/campus-belval/\nEn savoir plus: https://www.uni.lu/fr/events/journee-portes-ouvertes/
UID:UL-10086
LOCATION:Campus de Belval 2 place de l'Université 4365 Esch-sur-Alzette Luxembourg
URL:https://www.uni.lu/fr/events/journee-portes-ouvertes/
X-MS-OLK-AUTOFILLLOCATION:FALSE
END:VEVENT
END:VCALENDAR