BEGIN:VCALENDAR
METHOD:PUBLISH
VERSION:2.0
BEGIN:VEVENT
DTSTART:20240612T140000
DTEND:20240612T160000
DTSTAMP:20260425T131600
SUMMARY:Comprendre les comportements et valeurs politiques au Luxembourg et en Europe
DESCRIPTION:Analyse pré-électorale des élections européennes - POLINDEX 2024\n\nLe 3 juin à 11h00, la Chaire de recherche en études parlementaires de l'Université du Luxembourg présentera au Bureau et à la Conférence des Présidents de la Chambre des Députés du Luxembourg les résultats majeurs de l’étude POLINDEX réalisée en amont des élections européennes du 9 juin 2024.\n\nLe 12 juin à 14h00 un webinaire pour la presse, la communauté des chercheurs et les citoyens intéressés sera organisé pour comprendre les comportements et les valeurs politiques au Luxembourg et en Europe.\n\nPOLINDEX vise à rendre compte, sur une base annuelle, non partisane et scientifique, des transformations possibles des valeurs individuelles et collectives (et de leurs conséquences en termes de cohésion sociale et de légitimité politique) au Luxembourg et en Europe. L’objectif est d’obtenir des résultats de recherche sur les rapports à la démocratie, aux institutions et aux organisations de la société civile, et de constituer une base de données socioculturelles, socio-économiques et sociopolitiques sur les déterminants du vote, des comportements politiques et des représentations sociales, afin d’améliorer la prise de décision au Luxembourg et en Europe.\n\nPour plus d'informations : demos@uni.lu\n\nEquipe de recherche :\n\nPr. Dr. Philippe Poirier, titulaire de la Chaire de recherche en études parlementaires,\n\nDr. Agnès Darabos, postdoctorante\n\nDr. Nadim Farhat, chercheur\n\nClaire Poumarat, assistante doctorante\n\nAntonella di Pasquale, Senior Research Executive / Panel Manager- ILRES\n\nEn savoir plus: https://www.uni.lu/fhse-fr/events/polindex-2024/
UID:UL-2906
LOCATION:Webex
URL:https://www.uni.lu/fhse-fr/events/polindex-2024/
X-MS-OLK-AUTOFILLLOCATION:FALSE
END:VEVENT
END:VCALENDAR