BEGIN:VCALENDAR
METHOD:PUBLISH
VERSION:2.0
BEGIN:VEVENT
DTSTART:20260211T190000
DTEND:20260211T210000
DTSTAMP:20260421T030500
SUMMARY:Conférence: L’homme et le système : de l’impossibilité d’une anthropologie
DESCRIPTION:Résumé\n\nDans leur défense, tous azimuts de l’humanisme, les critiques de l’anti-humanisme ne procèdent pas toujours de façon différenciée. C’est certainement dû à la polyvalence du concept lui-même et de la confusion idéologique qui l’entoure. Malgré cette polyvalence source de maintes confusions, il y a lieu de distinguer un anti-humanisme méthodologique d’un anti-humanisme substantiel. Notre propos est d’illustrer cette distinction fort importante par la théorie des systèmes de Niklas Luhmann en expliquant pourquoi la théorie des systèmes se dit antihumaniste et\nen quoi cet anti-humanisme est purement méthodologique, comparé à d’autres formes d’anti-humanisme qu’on rencontre, par exemple dans le\nstructuralisme français.\n\nConférencier\n\nProf. Dr. Lukas Sosoe\n\nProfesseur émérite, Université du Luxembourg\n\nContact\n\nDr. Jean-Marie Weber\n\nProfesseur assistant (en retraite), psychanalyste, Université du Luxembourg\nLa conférence s’inscrit dans le cadre de la série Fortschritt und Regression in unserer Gesellschaft, organisée par le groupe de travail « Humanities & Religion » de l’Université du Luxembourg. Le groupe de travail est composé de Gerhard Beestermöller, Jean Braun, Roger Davids, René Gonner, Peter Voss et Jean-Marie Weber.\n\nPicture from Unsplash\n\nEn savoir plus: https://www.uni.lu/fhse-fr/events/lhomme-et-le-systeme-de-limpossibilite-dune-anthropologie/
UID:UL-5035
LOCATION:Campus Limpertsberg - Bâtiment des Sciences - BSC 0.03 162A Avenue de la Faïencerie 1511 Luxembourg Luxembourg
URL:https://www.uni.lu/fhse-fr/events/lhomme-et-le-systeme-de-limpossibilite-dune-anthropologie/
X-MS-OLK-AUTOFILLLOCATION:FALSE
END:VEVENT
END:VCALENDAR