BEGIN:VCALENDAR
METHOD:PUBLISH
VERSION:2.0
BEGIN:VEVENT
DTSTART:20240411T090000
DTEND:20240411T173000
DTSTAMP:20260424T071900
SUMMARY:Lusophone challenges, chances and ambivalences: insights from Luxembourg and beyond
DESCRIPTION:DisPOSEG closing conference\n\nPresentation\n\nMigrants originally from countries where Portuguese is the/an official language have a strong presence in global mobility. They constitute heterogeneous groups of people hailing from Portugal and its former colonies (Brazil, Angola, Bissau Guinea, Cape Verde, Mozambique, São Tomé and Principe...) who often cross paths and live lives of informal survivance and resistance in various host countries. They may share a common hope for a better future, but they also share a colonial past and occupy different historical positions. This workshop brings distinguished international scholars researching lusophone postcolonial complexities in migration context and beyond. It aims to discuss and present DisPOSEG’s research findings and reflections on lusophone’s postcolonial interactions, language, work, educational and social challenges in Luxembourg, as a ‘third space’ (Bhabha, 1994), i.e., outside the Portuguese colonial matrix. Furthermore, it seeks to understand the resonance of those interactions in France, but also how ‘coloniality’ (Mignolo, 2005) is still informing education and other social domains in former Portuguese colonies such as Mozambique.\n\nProgramme\n\n9:00 Welcome & introduction\n\n• Prof. Dr. Peter Gilles, Head of Department of Humanities, University of Luxembourg\n• Prof. Dr. Ingrid de Saint-Georges, University of Luxembourg\n\n9:30 Conference\n\n• Prof. Dr. Feliciano Chimbutane, Eduardo Mondlane University\n\nA Decolonial Analysis of Language Ideologies, Policies and Practices in Post-colonial Mozambique\n\n10:15\n\nProf. Dr. Sonia Ferreira, Universidade Nova de Lisboa\n\nLes migrations cap-verdiennes en France : questions et défis pour une analyse socio-historique\n\n11:00 Coffee break\n11:15 Dr. Bernardino Tavares & Aleida Vieira, University of Luxembourg\n\nDisPOSEG project – Disentangling postcolonial encounters\n\n12:00\n\nComments by Prof. Dr. Alexandre Duchêne, University of Fribourg\n\nThe importance of discussing postcolonial encounters in Globalization.\n\n12:30 Lunch break\n\n14:00\n\n• Monsieur Régis Moes, MNHA\nLe poids de l’histoire coloniale du Luxembourg sur les représentations de l’Afrique et des Africains au 20e siècle\n\n14:30 Roundtable (English & french)\n\n« Les défis, les chances et ambivalences des migrants au Luxembourg : de l’école au travail »\nModerated by: Jordanne Edwards, University of Luxembourg\n\nPanel of discussants:\n\nMadame Cidalia Monteiro, Maison de l’Orientation\n\nDr. Heidy Martins, CDMH\n\nDr. Kevin Simões, University of Fribourg\n\nMadame Mariana Muzzi, Fonctionnaire\n\nMonsieur Régis Moes, MNHA\n\n16:30 Coffee break\n\n16:45 Inattendu - Documentary trailer\n\n16:50 DisPOSEG Booklet presentation\n\n17:00 Discussion & Conclusion\n\nContact\n\nrebecca.decarli@uni.lu\n\naleida.vieira@uni.lu\n\nRead more: https://www.uni.lu/fhse-en/events/lusophone-challenges-chancesand-ambivalences-insights-fromluxembourg-and-beyond/
UID:UL-6767
LOCATION:Maison des Sciences Humaines L-4365 Esch-sur-Alzette Luxembourg
URL:https://www.uni.lu/fhse-en/events/lusophone-challenges-chancesand-ambivalences-insights-fromluxembourg-and-beyond/
X-MS-OLK-AUTOFILLLOCATION:FALSE
END:VEVENT
END:VCALENDAR