BEGIN:VCALENDAR
METHOD:PUBLISH
VERSION:2.0
BEGIN:VEVENT
DTSTART:20260416T180000
DTEND:20260416T200000
DTSTAMP:20260423T221800
SUMMARY:Nationaler Bericht zur Situation der Jugend in Luxemburg 2025: Leben und Aufwachsen in Online- und Offline-Welten
DESCRIPTION:Präsentation des Jugendberichts 2025\n\nWie prägen digitale Medien den Alltag junger Menschen in Luxemburg?\n\nDer Nationale Bericht zur Situation der Jugend in Luxemburg 2025 geht dieser Frage nach und zeigt, wie Jugendliche und junge Erwachsene digitale Medien in ihren vielfältigen Lebenswelten nutzen und wo sie dabei Chancen, aber auch Herausforderungen sehen. Im Mittelpunkt stehen Themen wie Bildung, Freizeit, soziale Beziehungen, Wohlbefinden und digitale Teilhabe. Gleichzeitig bietet der Bericht eine umfassende Analyse der allgemeinen Lebenssituation junger Menschen in Luxemburg. Der vierte nationale Jugendbericht, erneut von Forschenden der Universität Luxemburg (Centre for Childhood and Youth Research, CCY) erarbeitet, zeichnet damit ein aktuelles und vielschichtiges Bild davon, wie Jugendliche in Luxemburg leben und aufwachsen.\n\nIm Zentrum der Veranstaltung steht die Präsentation des Jugendberichtes, mit der Möglichkeit Fragen an das Forscherteam zu richten. Zudem wird es Redebeiträge des Luxemburgischen Ministers für Bildung, Kinder und Jugend, Claude Meisch, des Dekans der Fakultät für Geisteswissenschaften, Erziehungswissenschaften und Sozialwissenschaften, Robert Harmsen und der Vize-Rektorin für Forschung der Universität Luxemburg, Simone Niclou, geben. Die Veranstaltung wird durch eine moderierte Podiumsdiskussion abgerundet und endet mit der Möglichkeit des weiteren Austausches bei einem Cocktailempfang.\n\nDie Hauptsprache der Veranstaltung ist Deutsch. Auf Fragen kann jedoch auch in anderen Sprachen eingegangen werden. Um Anmeldung wird gebeten.\n\nLocation: https://www.uni.lu/fr/a-propos/campus/campus-belval/#maison-du-savoir\nRead more: https://www.uni.lu/fhse-en/events/leben-und-aufwachsen-in-online-und-offline-welten-der-nationale-bericht-zur-situation-der-jugend-in-luxemburg-2025/
UID:UL-33276
LOCATION:Maison du Savoir (MSA) - Saal 3.500 2 - place de l’Université L-4365 Esch-sur-Alzette Luxembourg
URL:https://www.uni.lu/fhse-en/events/leben-und-aufwachsen-in-online-und-offline-welten-der-nationale-bericht-zur-situation-der-jugend-in-luxemburg-2025/
X-MS-OLK-AUTOFILLLOCATION:FALSE
END:VEVENT
END:VCALENDAR