BEGIN:VCALENDAR
METHOD:PUBLISH
VERSION:2.0
BEGIN:VEVENT
DTSTART:20250617T120000
DTEND:20250617T140000
DTSTAMP:20260423T011800
SUMMARY:Séminaire de la Chaire Jean Monnet SESaMe - Les directives CSRD et CS3D: L'émergence contrariée d'un droit de l'entreprise durable
DESCRIPTION:Dans le cadre de la Chaire SESaMe Jean Monnet, le professeur Luca RATTI vous invite cordialement à vous joindre à nous pour ce dernier séminaire de la Chaire Jean Monnet.\n\nRésumé\n\nAdoptées en 2022 et 2024, les directives CSRD et CS3D posent les jalons d’un droit de l’entreprise responsable. Les\nobligations de dire et de faire imposées par ces directives alimentent une logique de responsabilisation en amont et\nde responsabilité ex-post des entreprises. Toutefois, le projet de directive Omnibus semble vouloir mettre fin à cette\ndynamique.\n\nLangue\n\nFrançais.\n\nCette conférence est gratuite. L’inscription est obligatoire.\n\nProgramme\n\n12h00 - 12h15\n\nIntroduction\n\nLuca Ratti, Professeur associé, Chaire Jean Monnet, Faculté de Droit, d’Économie et de Finance, Université de Luxembourg\n\n12h15 - 13h15\n\nPrésentation\n\nTatiana Sachs, Professeure à l’Université Paris Nanterre et Professeure invitée à\nl’Université Ca’Foscari de Venise\n\n13h15 - 14h00\n\nDiscussion et questions-réponses\n\nLieu: https://www.uni.lu/fr/a-propos/campus/batiment-weicker/\nEn savoir plus: https://www.uni.lu/fdef-fr/events/seminaire-de-la-chaire-jean-monnet-sesame-les-directives-csrd-et-cs3d-lemergence-contrariee-dun-droit-de-lentreprise-durable/
UID:UL-2917
LOCATION:Bâtiment Weicker 4 - rue Alphonse Weicker 2721 Luxembourg Luxembourg
URL:https://www.uni.lu/fdef-fr/events/seminaire-de-la-chaire-jean-monnet-sesame-les-directives-csrd-et-cs3d-lemergence-contrariee-dun-droit-de-lentreprise-durable/
X-MS-OLK-AUTOFILLLOCATION:FALSE
END:VEVENT
END:VCALENDAR