BEGIN:VCALENDAR
METHOD:PUBLISH
VERSION:2.0
BEGIN:VEVENT
DTSTART:20250311T120000
DTEND:20250311T140000
DTSTAMP:20260423T011800
SUMMARY:Séminaire de la Chaire Jean Monnet SESaMe - Droit du travail et écologie : quel(s) récit(s) ?
DESCRIPTION:Dans le cadre de la Chaire SESaMe Jean Monnet, le professeur Luca RATTI vous invite cordialement à vous joindre à nous pour ce séminaire.\n\nRésumé\n\nDroit du travail et écologie. Longtemps tenu pour subalterne, ce sujet s’est en quelques années imposé comme un thème majeur de la littérature du droit du travail. Et pour cause : le droit du travail hérite des enjeux auxquels le travail se trouve lui-même confronté. Il y a là pour le droit du travail une épreuve, en considération de son ou ses récits originels, en même temps qu’un défi, consistant à s’inventer une grammaire capable de penser les rapports entre travail et écologie en termes d’alliance, d’enchevêtrements, et non pas – non plus – d’opposition sur fond d’une altérité radicale. Subrepticement, c’est le besoin – mieux : la nécessité – d’un nouveau récit qui se fait jour. Celui d’un droit du travail écologique. Quelles transformations une telle perspective induit-elle ? Comment, et à quelles conditions, les acteurs du travail peuvent-il s’en emparer, se l’approprier ? Quels en sont les voies et les enjeux ? Cette perspective emporte-t-elle un changement de paradigme pour le droit du travail ?\n\nLangue\n\nFrançais.\n\nCette conférence est gratuite. L’inscription est obligatoire.\n\nProgramme\n\n12h00 - 12h15\n\nIntroduction\n\nLuca Ratti, Professeur associé, Faculté de Droit, d’Économie et de Finance, Université de Luxembourg, Chaire Jean Monnet\n\n12h15 - 13h15\n\nMots d’ouverture\n\nFrédéric Géa, Professeur, Faculté de droit de Nancy, Université de Lorraine\n\n13h15 - 14h00\n\nDiscussion et questions-réponses\n\nLieu: https://www.uni.lu/fr/a-propos/campus/batiment-weicker/\nEn savoir plus: https://www.uni.lu/fdef-fr/events/seminaire-de-la-chaire-jean-monnet-sesame-droit-du-travail-et-ecologie-quels-recits/
UID:UL-2785
LOCATION:Bâtiment Weicker 4 - rue Alphonse Weicker 2721 Luxembourg Luxembourg
URL:https://www.uni.lu/fdef-fr/events/seminaire-de-la-chaire-jean-monnet-sesame-droit-du-travail-et-ecologie-quels-recits/
X-MS-OLK-AUTOFILLLOCATION:FALSE
END:VEVENT
END:VCALENDAR