BEGIN:VCALENDAR
METHOD:PUBLISH
VERSION:2.0
BEGIN:VEVENT
DTSTART:20260518T180000
DTEND:20260518T200000
DTSTAMP:20260423T195100
SUMMARY:Réforme de la responsabilité du fait des produits défectueux
DESCRIPTION:Résumé\n\nLa conférence a pour objet de présenter la nouvelle directive responsabilité du fait des produits défectueux du 23 octobre 2024 et ses effets sur la responsabilité du fait des nouveaux produits technologiques\n\nIntervenant: Luc Grynbaum (Professeur à l'Université du Luxembourg)\n\nDiscutant: Georges Ravarani(Ancien juge à la Cour Européenne des Droits de l'Homme)\n\nLangue\n\nFrançais.\n\nCette conférence est gratuite. L’inscription est obligatoire.\n\nCette conférence pourra être prise en compte dans la formation des avocats à condition de s'être inscrit et d'y avoir participé.\n\nLieu: https://www.uni.lu/fr/a-propos/campus/batiment-weicker/\nEn savoir plus: https://www.uni.lu/fdef-fr/events/reforme-de-la-responsabilite-du-fait-des-produits-defectueux/
UID:UL-3414
LOCATION:Bâtiment Weicker 4 - rue Alphonse Weicker 2721 Luxembourg Luxembourg
URL:https://www.uni.lu/fdef-fr/events/reforme-de-la-responsabilite-du-fait-des-produits-defectueux/
X-MS-OLK-AUTOFILLLOCATION:FALSE
END:VEVENT
END:VCALENDAR