BEGIN:VCALENDAR
METHOD:PUBLISH
VERSION:2.0
BEGIN:VEVENT
DTSTART:20250114T180000
DTEND:20250114T200000
DTSTAMP:20260422T155000
SUMMARY:Réflexions sur la jurisprudence civile au Luxembourg. L’exemple du droit des contrats
DESCRIPTION:Dans le cadre de son cycle 2024-2025, le Groupe de réflexion en droit privé luxembourgeois (GRDPL) vous invite cordialement à sa conférence.\n\nRésumé\n\nA l’occasion de la parution prochaine de la seconde édition de son manuel de droit luxembourgeois des contrats, et à partir de l’expérience que la rédaction de cette nouvelle version lui a procurée, Pascal Ancel est amené à se livrer à une réflexion sur la jurisprudence civile luxembourgeoise. Alors que la première édition avait été conçue dans une approche principalement pédagogique, éclairée par la seule jurisprudence publiée, l’auteur a souhaité ouvrir davantage son ouvrage aux praticiens, notamment pour combler le vide laissé par l’absence de réédition de l’ouvrage d’Olivier Poelmans. Cet objectif supposait d’enrichir le propos de nombreuses références jurisprudentielles, y compris très récentes, en profitant des progrès réalisés dans l’accès aux décisions non publiées. La recherche approfondie réalisée à cet effet, ainsi que, en parallèle, dans le cadre des travaux menés pour la préparation de l’avant-projet de réforme du droit des contrats, a permis à l’auteur de mesurer la spécificité, du moins dans la matière contractuelle, de la jurisprudence civile luxembourgeoise, si on cherche à la comparer avec le modèle français. Cette spécificité tient d’abord aux décisions elles-mêmes, quant à la manière dont elles sont structurées, rédigées, et quant aux sources dont elles s’inspirent explicitement. Elle se manifeste ensuite et surtout quant à l’utilisation qui peut être faite de ces décisions pour construire ce qu’est, au sens propre, une « jurisprudence », en raison des défauts persistants malgré les progrès des modes d’accès aux décisions, de la faiblesse des canaux de diffusion et de sélection de celles-ci, et de l’insuffisance, jusqu’à maintenant, d’une doctrine proprement luxembourgeoise apte à en tirer des normes par ses commentaires et ses mises en relation.\n\nCette présentation sera suivie d’un débat avec la salle, discussion lancée par Monsieur David Hiez, Professeur à l'Université du Luxembourg.\n\nIntervenant\n\nPascal Ancel, Professeur émérite de l'Université du Luxembourg\n\nLangue\n\nFrançais.\n\nCette conférence est gratuite. L’inscription est obligatoire.\n\nLieu: https://www.uni.lu/fr/a-propos/campus/batiment-weicker/\nEn savoir plus: https://www.uni.lu/fdef-fr/events/reflexions-sur-la-jurisprudence-civile-au-luxembourg-lexemple-du-droit-des-contrats/
UID:UL-2738
LOCATION:Bâtiment Weicker 4 - rue Alphonse Weicker 2721 Luxembourg Luxembourg
URL:https://www.uni.lu/fdef-fr/events/reflexions-sur-la-jurisprudence-civile-au-luxembourg-lexemple-du-droit-des-contrats/
X-MS-OLK-AUTOFILLLOCATION:FALSE
END:VEVENT
END:VCALENDAR