BEGIN:VCALENDAR
METHOD:PUBLISH
VERSION:2.0
BEGIN:VEVENT
DTSTART:20260320T173000
DTEND:20260320T193000
DTSTAMP:20260423T205900
SUMMARY:Recours collectifs des consommateurs : Premiers regards sur la loi n°7650
DESCRIPTION:Premiers regards sur la loi relative aux actions représentatives visant à protéger les intérêts collectifs des consommateurs au Luxembourg.\n\nRésumé\n\nLe Luxembourg vient de se doter d’un texte permettant d’organiser des actions représentatives visant à protéger les intérêts collectifs des consommateurs.\n\nLa conférence organisée par le Groupe de Recherche en Enseignement Clinique et Consommation a pour but de présenter le texte et de comprendre d’une part le rôle des acteurs principaux de ces recours et d’autre part les innovations procédurales que ce nouveau type d’action introduit en droit luxembourgeois.\n\nLangue\n\nFrançais.\n\nCet événement est gratuit. L’inscription est obligatoire.\n\nProgramme\n\n17h30 - 17h45\n\nAccueil\n\n17h45 - 18h00\n\nPrésentation de la loi n°7650\n\n18h00 - 18h45\n\nTable ronde 1 : Les acteurs du recours collectif\n\n18h45 - 19h30\n\nTable ronde 2 : La procédure du recours collectif\n\n19h30\n\nConclusion\n\nQ&A du public\n\nCocktail de clôture\n\nContact\n\nDr. Mathilde CALCIO-GAUDINO\n\nLieu: https://www.uni.lu/fr/a-propos/campus/batiment-weicker/\nEn savoir plus: https://www.uni.lu/fdef-fr/events/recours-collectifs-des-consommateurs-premiers-regards-sur-la-loi-n7650/
UID:UL-3328
LOCATION:Bâtiment Weicker 4 - rue Alphonse Weicker 2721 Luxembourg Luxembourg
URL:https://www.uni.lu/fdef-fr/events/recours-collectifs-des-consommateurs-premiers-regards-sur-la-loi-n7650/
X-MS-OLK-AUTOFILLLOCATION:FALSE
END:VEVENT
END:VCALENDAR