BEGIN:VCALENDAR
METHOD:PUBLISH
VERSION:2.0
BEGIN:VEVENT
DTSTART:20260225T170000
DTEND:20260225T180000
DTSTAMP:20260423T231000
SUMMARY:Les Séminaires du GRECC: A la rencontre du Médiateur de la consommation
DESCRIPTION:Troisième session des Séminaires de la Clinique consacrés au cadre du droit de la consommation\n\nRésumé\n\nComment se déroule un règlement à l’amiable d’un litige de consommation ?\n\nPeut-on forcer un professionnel à y participer ?\n\nQue faire si les parties ne trouvent pas de solution ?\n\nClaude Fellens, Médiateur de la consommation, et Goreti Pinto, assistante de direction du Médiateur de la consommation, répondront à ces questions au cours d’une présentation du Service national du Médiateur de la consommation ouverte au public à laquelle vous êtes chaleureusement conviés.\n\nLangue\n\nFrançais.\n\nCet événement est gratuit. L’inscription est obligatoire.\n\nContact\n\nDr. Mathilde CALCIO-GAUDINO\n\nLieu: https://www.uni.lu/fr/a-propos/campus/batiment-weicker/\nEn savoir plus: https://www.uni.lu/fdef-fr/events/les-seminaires-du-grecc-a-la-rencontre-du-mediateur-de-la-consommation/
UID:UL-3288
LOCATION:Bâtiment Weicker 4 - rue Alphonse Weicker 2721 Luxembourg Luxembourg
URL:https://www.uni.lu/fdef-fr/events/les-seminaires-du-grecc-a-la-rencontre-du-mediateur-de-la-consommation/
X-MS-OLK-AUTOFILLLOCATION:FALSE
END:VEVENT
END:VCALENDAR