BEGIN:VCALENDAR
METHOD:PUBLISH
VERSION:2.0
BEGIN:VEVENT
DTSTART:20260415T173000
DTEND:20260415T183000
DTSTAMP:20260423T195100
SUMMARY:Les séminaires de la Clinique du droit : Le cadre du droit de la consommation
DESCRIPTION:Résumé\n\nLa Clinique du droit a le plaisir de vous inviter au cinquième de ses séminairesconsacrés au cadre du droit de la consommation, le mercredi 15 avril 2026, de 17h30 à 18h30 en salle C006.\n\nCette session s’intéressera à la question de l’intégration par les professionnels du droit de la consommation dans leurs pratiques, au travers de l’exemple de la plateforme Vinted : Comment les entreprises assurent-t-elles l’application du droit de la consommation ? Quelle est l’influence de la réglementation sur les modèles économiques des plateformes d’e-commerce ?\n\nLe Dr Carsten Ullrich, Research scientist et ancien Legal Director Marketplace à Vinted, répondra à ces questions au cours d’une présentation ouverte au public à laquelle vous êtes chaleureusement conviés.\n\nLangue\n\nFrançais.\n\nCet événement est gratuit. L’inscription est obligatoire.\n\nCette conférence pourra être prise en compte dans la formation continue des avocats.\n\nContact\n\nDr. Mathilde CALCIO-GAUDINO\n\nLieu: https://www.uni.lu/fr/a-propos/campus/batiment-weicker/\nEn savoir plus: https://www.uni.lu/fdef-fr/events/les-seminaires-de-la-clinique-du-droit-le-cadre-du-droit-de-la-consommation/
UID:UL-3368
LOCATION:Bâtiment Weicker 4 - rue Alphonse Weicker 2721 Luxembourg Luxembourg
URL:https://www.uni.lu/fdef-fr/events/les-seminaires-de-la-clinique-du-droit-le-cadre-du-droit-de-la-consommation/
X-MS-OLK-AUTOFILLLOCATION:FALSE
END:VEVENT
END:VCALENDAR