BEGIN:VCALENDAR
METHOD:PUBLISH
VERSION:2.0
BEGIN:VEVENT
DTSTART:20250321T140000
DTEND:20250321T173000
DTSTAMP:20260422T024800
SUMMARY:Les récentes réformes du Nouveau Code de procédure civile : bilan et perspectives
DESCRIPTION:Dans le cadre de son cycle 2024-2025, le Groupe de réflexion en droit privé luxembourgeois (GRDPL) vous invite cordialement à sa conférence qui se tiendra exceptionnellement dans les bâtiments de la Cité Judiciaire.\n\nSous la direction de Francoise Hilger, Magistrat et chargé de cours à l'Université du Luxembourg\n\nProgramme\n\nDiscours d’ouverture\n\nMadame Elisabeth Margue, Ministre de la Justice\n\nAccès à la justice\n\nBilan de la réforme de l’assistance judiciaire, Maître V. Richard\n\nCoût de la justice, honoraires d’avocat et indemnité de procédure, F. Hilger\n\nL’augmentation du taux de compétence : pour une revalorisation des procédures orales et du juge unique ? Monsieur Ph. Wadlé\n\nBilan de l’appel sur autorisation, Madame M. Hornick\n\nProcédure écrite: quel rôle pour l‘audience ? Monsieur Th. Hoscheit (ensemble avec Maître L. Hoss, à confirmer)\n\nDiscussion et pause\n\nEfficacité de la justice (table ronde, animée par Madame S. Menétrey)\n\nLes pouvoirs du Juge de la mise en état\n\nLa mise en état simplifiée\n\nLes conclusions de synthèse\n\nParticipants à la table ronde : Maître A. Moro, Maître D. Grasso, Madame S. Alves, Monsieur Ch. Scheer.\n\nLangue\n\nFrançais.\n\nCette conférence est gratuite. L’inscription est obligatoire.\n\nEn savoir plus: https://www.uni.lu/fdef-fr/events/les-recentes-reformes-du-nouveau-code-de-procedure-civile-bilan-et-perspectives/
UID:UL-2795
LOCATION:Salle de formation Cité Judiciaire Plateau du Saint-Esprit 2080 Luxembourg Luxembourg
URL:https://www.uni.lu/fdef-fr/events/les-recentes-reformes-du-nouveau-code-de-procedure-civile-bilan-et-perspectives/
X-MS-OLK-AUTOFILLLOCATION:FALSE
END:VEVENT
END:VCALENDAR