BEGIN:VCALENDAR
METHOD:PUBLISH
VERSION:2.0
BEGIN:VEVENT
DTSTART:20240618T180000
DTEND:20240618T200000
DTSTAMP:20260422T170900
SUMMARY:Le principe de sécurité juridique dans les avis du Conseil d'État
DESCRIPTION:Dans le cadre de son cycle 2023-2024, le Groupe de réflexion en droit privé luxembourgeois (GRDPL) vous invite cordialement à sa conférence.\n\nRésumé :\n\nLe principe de sécurité juridique est régulièrement mis en avant par le Conseil d’État dans ses avis depuis les années 1990, bien que les exigences afférentes de l’accessibilité, de la prévisibilité et de la stabilité de la règle juridique constituent depuis longtemps des acquis. L’intégration et la transposition du droit européen en droit interne ont certainement préparé le terrain pour la réception intensifiée du principe dans le droit luxembourgeois. Aujourd’hui, la plupart des oppositions formelles émises par le Conseil d’État se fondent sur le principe de sécurité juridique, qui a été reconnu en 2021 par le juge constitutionnel comme principe général de droit à valeur constitutionnelle. Si l’autorité de ce principe en droit public est donc désormais admise, qu’en est-il en droit civil ? L’orateur se propose de retracer l’application du principe en matière de droit civil à travers des avis du Conseil d’État pour déceler un éventuel traitement différencié dans cette matière par rapport au droit public.\n\nIntervenant :\n\nMarc Besch, secrétaire général du Conseil d'Etat.\n\nLangue : français\n\nCette conférence est gratuite. L’inscription est obligatoire.\n\nLieu: https://www.uni.lu/fr/a-propos/campus/batiment-weicker/\nEn savoir plus: https://www.uni.lu/fdef-fr/events/le-principe-de-securite-juridique-dans-les-avis-du-conseil-detat/
UID:UL-2426
LOCATION:Bâtiment Weicker 4 - rue Alphonse Weicker 2721 Luxembourg Luxembourg
URL:https://www.uni.lu/fdef-fr/events/le-principe-de-securite-juridique-dans-les-avis-du-conseil-detat/
X-MS-OLK-AUTOFILLLOCATION:FALSE
END:VEVENT
END:VCALENDAR