BEGIN:VCALENDAR
METHOD:PUBLISH
VERSION:2.0
BEGIN:VEVENT
DTSTART:20241112T180000
DTEND:20241112T200000
DTSTAMP:20260422T075600
SUMMARY:L'action directe en droit des assurances
DESCRIPTION:Dans le cadre de son cycle 2024-2025, le Groupe de réflexion en droit privé luxembourgeois (GRDPL) vous invite cordialement à sa conférence.\n\nRésumé\n\nL’action directe est un mécanisme classique du droit des assurances. Initiée par la victime à l’encontre de l’assureur de l’auteur du dommage, elle vise a faciliter le processus d’indemnisation. Dans le cadre de cette conférence, les contours de l action directe, telle qu encadrée en droit luxembourgeois, seront examinés, notamment quant à son champ d’application, son déroulement pratique, l’opposabilité des exceptions et les délais de prescription.\n\nCette présentation sera suivie d’un débat avec la salle, discussion lancée par Monsieur David Hiez, Professeur à l'Université du Luxembourg.\n\nIntervenant\n\nChristophe Verdure est Head of Legal and DPO chez EFG Bank et maître de conférence associé à l'Université du Luxembourg.\n\nLangue\n\nFrançais.\n\nCette conférence est gratuite. L’inscription est obligatoire.\n\nLieu: https://www.uni.lu/fr/a-propos/campus/batiment-weicker/\nEn savoir plus: https://www.uni.lu/fdef-fr/events/laction-directe-en-droit-des-assurances/
UID:UL-2680
LOCATION:Bâtiment Weicker 4 - rue Alphonse Weicker 2721 Luxembourg Luxembourg
URL:https://www.uni.lu/fdef-fr/events/laction-directe-en-droit-des-assurances/
X-MS-OLK-AUTOFILLLOCATION:FALSE
END:VEVENT
END:VCALENDAR