BEGIN:VCALENDAR
METHOD:PUBLISH
VERSION:2.0
BEGIN:VEVENT
DTSTART:20241029T180000
DTEND:20241029T200000
DTSTAMP:20260422T214400
SUMMARY:La notion de garde en matière de responsabilité des parents
DESCRIPTION:Dans le cadre de son cycle 2024-2025, le Groupe de réflexion en droit privé luxembourgeois (GRDPL) vous invite cordialement à sa conférence.\n\nRésumé\n\nQui est responsable, en cas de divorce, des dommages causés par l’enfant mineur ?\n\nLa question de la responsabilité des parents divorcés, au carrefour du droit de la famille et du droit de la responsabilité civile, est à l’origine d’une abondante jurisprudence en droit français, construite principalement autour de l’interprétation de la notion de cohabitation. Face aux mutations du droit de la famille, notamment l’objectivisation de la responsabilité des père et mère consacrée par l’arrêt Bertrand en 1997 puis la réforme de l’autorité parentale par la loi du 4 mars 2002, la jurisprudence avait jusque-là établi un système de responsabilité fondé sur la cohabitation juridique : le parent chez qui l’enfant résidait habituellement était tenu responsable au titre de l’article 1242 du Code civil (ancien article 1384), tandis que l’autre parent, titulaire d’un droit de visite et d’hébergement, ne pouvait voir sa responsabilité engagée qu’en cas de faute personnelle.\n\nLa Cour de cassation française, dans une décision particulièrement médiatisée, a procédé le 28 juin 2024 à un revirement de sa jurisprudence. Sont désormais solidairement responsables des dommages causés par l’enfant mineur les parents qui exercent conjointement l’autorité parentale, indépendamment de la résidence habituelle de l’enfant.\n\nQuelles sont les implications juridiques et pratiques de ce changement ? La solution pourrait-elle inspirer le droit luxembourgeois ?\n\nCette présentation, qui sera suivie d’un débat avec la salle, abordera les coulisses d’un revirement très attendu et invitera à la discussion sur l’opportunité d’une évolution de la jurisprudence.\n\nIntervenante\n\nDr. Mathilde CALCIO-GAUDINO\n\nFDEF\n\nResearch scientist\n\nVoir le profil\n\nLangue\n\nFrançais.\n\nCette conférence est gratuite. L’inscription est obligatoire.\n\nLieu: https://www.uni.lu/fr/a-propos/campus/batiment-weicker/\nEn savoir plus: https://www.uni.lu/fdef-fr/events/la-notion-de-garde-en-matiere-de-responsabilite-des-parents/
UID:UL-2602
LOCATION:Bâtiment Weicker 4 - rue Alphonse Weicker 2721 Luxembourg Luxembourg
URL:https://www.uni.lu/fdef-fr/events/la-notion-de-garde-en-matiere-de-responsabilite-des-parents/
X-MS-OLK-AUTOFILLLOCATION:FALSE
END:VEVENT
END:VCALENDAR