BEGIN:VCALENDAR
METHOD:PUBLISH
VERSION:2.0
BEGIN:VEVENT
DTSTART:20260512T090000
DTEND:20260512T173000
DTSTAMP:20260423T195100
SUMMARY:The European Union’s Fiscal Constitution: Budget, Own Resources and the Power to Tax
DESCRIPTION:This conference is organised by the Department of Law of the Faculty of Law, Economics and Finance of the University of Luxembourg and the Robert Schuman Initiative (RSI) with the support of the Erasmus + Programme of the European Commission.\n\nAbstract\n\nThis conference explores the evolving contours of the European Union’s fiscal constitution, focusing on the interplay between the EU budget, own resources, and the Union’s emerging capacity to raise revenue. Against the backdrop of recent crises and transformative policy developments, most notably the NextGenerationEU instrument, the reform of fiscal governance, and new own resources proposals, the conference brings together leading scholars to examine the legal, economic, and constitutional dimensions of fiscal integration in the European Union.\n\nThe conference will engage with key structural questions of fiscal federalism, exploring the constitutional architecture of EU fiscal powers, the implications of common debt issuance, and comparative perspectives on the design of revenue systems in multi-level systems. It will trace the evolution of fiscal governance in the European Union, with particular attention to the shifting balance between discipline, solidarity, and sovereignty, the ongoing transformation of the Stability and Growth Pact, and the expanding role of financial assistance instruments.\n\nAt the same time, the conference reflects on the changing role of the EU budget, from its traditional focus on cohesion policy to its increasing involvement in areas such as defence and external action, thereby highlighting its growing strategic significance in the pursuit of broader policy objectives. It also addresses fundamental questions concerning the EU’s power to tax and the future of own resources, examining both the constitutional limits of EU fiscal authority and the prospects for deeper fiscal integration.\n\nBy bringing together perspectives from law, economics, and political science, the conference aims to contribute to a more comprehensive understanding of the EU’s fiscal constitution at a time of significant transformation, and to reflect on its implications for the future of European integration.\n\nLanguage\n\nEnglish.\n\nThis is a free event. Registration is mandatory.\n\nProgramme\n\n09.00 – 09.10\n\nWelcome,\n\nDr. Katerina Pantazatou (University of Luxembourg)\n\n09.10 – 10.30\n\nFiscal Federalism and Fiscal Union(s)\n\nChair: Dr. Katerina Pantazatou (University of Luxembourg)\n\nSpeakers:\n\nProf. Gianluigi Bizioli (University of Bergamo): ‘The Constitutional Architecture of the European Union Fiscal Federalism’\n\nProf. David Howarth (University of Luxembourg): ‘A Union of debt?’\n\nDr. Ricardo Garcia Anton (Tilburg University): ‘Comparative Federalism and the Design of the EU Revenue side’\n\n10.30 – 11.00\n\nCoffee Break\n\n11.00 – 12.45\n\nFiscal Governance in the EU: Discipline, Solidarity and Sovereignty\n\nChair: Prof. David Howarth (University of Luxembourg)\n\nSpeakers:\n\nDr. Maria Antonia Panasci (Mercatorum University): ‘NGEU and the Transformation of the EU Fiscal Constitution’\n\nDr. Klaus Tuori and Dr. Fernando Losada (University of Luxembourg): ‘The green dimension of financial assistance in the EU’\n\nProf. Christos Gortsos (National and Kapodistrian University of Athens): ‘The asymmetry between the ‘Economic’ and the ‘Monetary’ in the EMU’  (online)\n\nDr. Frédéric Allemand (University of Luxembourg): ‘Between Discipline, Solidarity and Sovereignty: The SGP and the EU’s New Fiscal Toolbox’\n\n12.45 – 14.00\n\nLunch break\n\n14.00 – 15.30\n\nThe use of the EU budget: From cohesion policy to EU defence\n\nChair: Prof. Eleftheria Neframi (University of Luxembourg)\n\nSpeakers:\n\nDr. Thibault Martinelli (University of Salzburg): ‘Cohesion in the Next MFF: Structural Funds and the Transformation of the EU Budgetary Architecture’\n\nDr. Luigi Lonardo (University of Luxembourg): ‘Support loans and the EU’s external policy’\n\nDr. Rosalba Famà (New York University & Bocconi University): ‘Financing the EU defence – the SAFE instrument and the expanding role of the EIB’ (online)\n\n15.30 – 16.00\n\nCoffee break\n\n16.00 – 17.30\n\nThe EU’s power to tax and own resources\n\nChair: Prof. Gianluigi Bizioli (University of Bergamo)\n\nSpeakers:\n\nDr. Martha Caziero (Tilburg University): ‘The EU’s power to tax’\n\nDr. Sam van der Vlugt (Erasmus University Rotterdam): ‘The new own resources proposals and the way forward’\n\nDr. Tomasz Woźniakowski (University of Wrocław): ‘Taxing Powers and Political Union: The Constitutional Future of the European Union’\n\nIn collaboration with\n\nThis conference is funded by the European Union. Views and opinions expressed are however those of the author(s) only and do not necessarily reflect those of the European Union. Neither the European Union nor the granting authority can be held responsible for them.\n\nLocation: https://www.uni.lu/en/about/campuses/weicker-building/\nRead more: https://www.uni.lu/fdef-en/events/the-european-unions-fiscal-constitution-budget-own-resources-and-the-power-to-tax/
UID:UL-24540
LOCATION:Weicker Building 4 - rue Alphonse Weicker 2721 Luxembourg Luxembourg
URL:https://www.uni.lu/fdef-en/events/the-european-unions-fiscal-constitution-budget-own-resources-and-the-power-to-tax/
X-MS-OLK-AUTOFILLLOCATION:FALSE
END:VEVENT
END:VCALENDAR