BEGIN:VCALENDAR
METHOD:PUBLISH
VERSION:2.0
BEGIN:VEVENT
DTSTART:20241016T134500
DTEND:20241016T170000
DTSTAMP:20260425T180300
SUMMARY:The 2024 Reforms of the Court of Justice of the European Union
DESCRIPTION:Invitation to a workshop discussing the reforms of the Statute and the Rules of Procedure at the CJEU.\n\nAbstract\n\nThe workshop will discuss various aspects and effects of the CJEU’s reforms and outline further research agendas.\n\nLanguage\n\nEnglish\n\nThis is a free hybrid event. Registration is mandatory.\n\nProgramme\n\n13.45 - 14.00\n\nRegistration\n\n14.00 - 14.15\n\nLitigation and reforms – the gaps and the fillers\n\nProfessor Herwig Hofmann, University of Luxembourg, Faculty of Law, Economics and Finance (FDEF)\n\n14.15 - 14.45\n\nSharing uniformity: opportunities and challenges of the preliminary reference reform\n\nProfessor Takis Tridimas, University of Luxembourg, Luxembourg Centre for European Law (LCEL)\n\n14.45 - 15.15\n\nA Court for troubled waters? The impact of the procedural reform of 2024 on scientific and technological litigation before the CJEU\n\nWalter Bruno, University of Luxembourg, Luxembourg Centre for European Law (LCEL)\n\n15.15 - 15.45\n\nCoffee break\n\n15.45 - 16.15\n\nSystemic effects of the 2024 reforms of the CJEU\n\nProf. Kieran Bradley, Trinity College Dublin; Former Judge of the European Union Civil Service Tribunal\n\n16.15 - 16.45\n\nThe challenge of preserving unity and consistency of EU law\n\nTanja Hilpold, University of Luxembourg, Faculty of Law, Economics and Finance (FDEF)\n\n16.45 - 17.00\n\nClosing Remarks\n\nProfessor Herwig Hofmann, University of Luxembourg, Faculty of Law, Economics and Finance (FDEF)\n\nContact\n\nwalter.bruno@uni.lu\n\ntanja.hilpold@uni.lu\n\nherwig.hofmann@uni.lu\n\nSupported by the European Commission via the Erasmus+ Jean Monnet Centre of Excellence.\n\nLocation: https://www.uni.lu/en/about/campuses/weicker-building/\nRead more: https://www.uni.lu/fdef-en/events/the-2024-reforms-of-the-court-of-justice-of-the-european-union/
UID:UL-15401
LOCATION:Weicker Building 4 - rue Alphonse Weicker 2721 Luxembourg Luxembourg
URL:https://www.uni.lu/fdef-en/events/the-2024-reforms-of-the-court-of-justice-of-the-european-union/
X-MS-OLK-AUTOFILLLOCATION:FALSE
END:VEVENT
END:VCALENDAR