BEGIN:VCALENDAR
METHOD:PUBLISH
VERSION:2.0
BEGIN:VEVENT
DTSTART:20260429T120000
DTEND:20260429T140000
DTSTAMP:20260423T195100
SUMMARY:Positioning Academia in AI Research and Teaching
DESCRIPTION:AI Lecture Series: Lecture 6\n\nThe Faculty of Law, Economics and Finance, in collaboration with the Interdisciplinary Centre for Security, Reliability and Trust (SnT) and the National Centre of Excellence in Research and Innovation (NCER FutureFinTech) is pleased to invite you, as part of the AI Lecture Series, to this lecture.\n\nAbstract\n\nAI has obviously played a role in research at universities around the globe since a long time. The steep rise in attention and possibilities around AI topics in the recent years and months have put the question of how to position research institutions in this debate and which positions to take vis-à-vis AI solutions in the core of academic debate. This concerns not only the reliance of policy discussions on input by research institutions and individual researchers, but also the way of integrating or dealing with AI in the teaching context. Such questions are not limited to individual institutions, but as a fundamental challenge for academia altogether there are attempts of aligning approaches on international level and benefitting from joint work in academic networks. This lecture will present some of the issues that universities are facing and some of the avenues that are pursued in response. It will include some insights from approaches to AI in legal research, teaching and the profession outside of Europe.\n\nAbout the speaker\n\nProf Mark COLE\n\nFDEF\n\nFull professor\n\nLearn more\n\nLanguage\n\nEnglish.\n\nThis is a free hybrid event. Registration is mandatory.\n\nLunch will be offered from 11:30.\n\nIn collaboration with\n\nLocation: https://www.uni.lu/en/about/campuses/weicker-building/\nRead more: https://www.uni.lu/fdef-en/events/positioning-academia-in-ai-research-and-teaching/
UID:UL-24510
LOCATION:Weicker Building 4 - rue Alphonse Weicker 2721 Luxembourg Luxembourg
URL:https://www.uni.lu/fdef-en/events/positioning-academia-in-ai-research-and-teaching/
X-MS-OLK-AUTOFILLLOCATION:FALSE
END:VEVENT
END:VCALENDAR