BEGIN:VCALENDAR
METHOD:PUBLISH
VERSION:2.0
BEGIN:VEVENT
DTSTART:20250128T170000
DTEND:20250128T183000
DTSTAMP:20260424T004800
SUMMARY:Open Lecture: Blended Finance
DESCRIPTION:Abstract\n\nEvery year, the ADA Chair in Financial Law (Inclusive Finance), ADA and the EIB Institute invite the public to participate in an open lecture of the Certificate in Law and Regulation of Inclusive Finance.\n\nIn this year’s lecture, we will discuss how to make use of structured finance for the purpose of sustainable and inclusive developments.\n\nWe are grateful for Paolo Martelli, Vice-President and the Chief Investment Officer at FinDev Canada, to be delivering the public lecture and look forward to engage in an insightful discussion.\n\nLanguage\n\nEnglish.\n\nThis is a free event. Registration is mandatory.\n\nIn partnership with\n\nLocation: https://www.uni.lu/en/about/campuses/weicker-building/\nRead more: https://www.uni.lu/fdef-en/events/open-lecture-blended-finance/
UID:UL-18130
LOCATION:Weicker Building 4 rue Alphonse Weicker 2721 Luxembourg Luxembourg
URL:https://www.uni.lu/fdef-en/events/open-lecture-blended-finance/
X-MS-OLK-AUTOFILLLOCATION:FALSE
END:VEVENT
END:VCALENDAR