BEGIN:VCALENDAR
METHOD:PUBLISH
VERSION:2.0
BEGIN:VEVENT
DTSTART:20241128T180000
DTEND:20241128T200000
DTSTAMP:20260424T001400
SUMMARY:Lëtz talk IP - The EU’s Recent Copyright Related AI Regulation
DESCRIPTION:Innovation Killer or Global Model for a Fair, Balanced and Functional Regulation of GenAI’s Copyright Issues?\n\nThe Faculty of Law, Economics and Finance and DLA Piper, together with the Benelux Office for intellectual Property and AIPPI Luxembourg, are delighted to invite you to the first lecture of their lecture series “Lëtz talk IP!”.\n\nAbstract\n\nThe recently adopted EU AI Act is the first comprehensive regulation of Artificial Intelligence (AI), gained a lot of international traction, and will most likely serve other jurisdictions as a blueprint for their regulatory endeavors in this field. While the EU AI Act provides (limited) guidance on some copyright-related questions of generative AI, several court proceedings are currently pending in EU Member States, the US, and other jurisdictions focusing on the potential copyright infringement by generative AI.\n\nFranz Hofmann and Amit Datta are leading copyright experts. The speakers will provide an overview of some of the most pressing issues and discuss their implications, both from an academic and practical perspective.\n\nThe talk will be followed by a discussion and a reception.\n\nAbout the speakers\n\nProf. Dr. Franz Hofmann is the Chair of Civil Law, Intellectual Property and Technology Law, University of Erlangen–Nuremberg\n\nDr. Amit Datta is an Associate General Counsel at Aleph Alpha\n\nLanguage\n\nEnglish.\n\nThis is a free event. Registration is mandatory.\n\nIn partnership with\n\nLocation: https://www.uni.lu/en/about/campuses/weicker-building/\nRead more: https://www.uni.lu/fdef-en/events/letz-talk-ip-the-eus-recent-copyright-related-ai-regulation/
UID:UL-17196
LOCATION:Weicker Building 4 rue Alphonse Weicker 2721 Luxembourg Luxembourg
URL:https://www.uni.lu/fdef-en/events/letz-talk-ip-the-eus-recent-copyright-related-ai-regulation/
X-MS-OLK-AUTOFILLLOCATION:FALSE
END:VEVENT
END:VCALENDAR