BEGIN:VCALENDAR
METHOD:PUBLISH
VERSION:2.0
BEGIN:VEVENT
DTSTART:20250514T120000
DTEND:20250514T140000
DTSTAMP:20260422T051400
SUMMARY:Lecture of the Jean Monnet Chair SESaMe – Enforcing Climate Change-Sensitive Behaviours
DESCRIPTION:In the framework of the SESaMe Jean Monnet Chair on a Sustainable European Social Model, Prof. Dr. Luca RATTI cordially invites you to join us for this seminar.\n\nAbstract\n\nThe lecture aims at framing the issue of motivation, with specific reference to patterns of action that are oriented at enforcing climate change-sensitive behaviours. In doing that, the lecture outlines first a preliminary dichotomy between insensitiveness and sensitivity vis à vis climate change previsions and evidence. By limiting the validity of the normative proposal to the Western context, I will thus propose a taxonomy of possible motivations that can trigger or limit climate-change sensitive behaviours in accordance with two of the most common normative approaches: the deontological and the consequentialist one. The issue of imitative behaviour will be thus largely explored, in order to: a) verify the possibility of boosting individual/collective and institutional sensitivity towards key previsions of phenomena related to climate change, and b) to strengthen coherent and consequent forms of behaviour. The main aim is to propose a multifaceted model to overcome the motivational gap that limits (to the point of reducing or even blocking) the adoption of climate change-sensitive behaviors at the individual, collective and institutional levels.\n\nAbout the speaker\n\nAlberto Pirni (PhD) is Associate Professor in Moral Philosophy at the Institute of Law, Politics and Development by the Sant’Anna School of Advanced Studies (Pisa), where he coordinates the Research Area in “Ethics and Global Challenges”.\n\nLanguage\n\nEnglish.\n\nThis is a free seminar. Registration is mandatory.\n\nLocation: https://www.uni.lu/en/about/campuses/weicker-building/\nRead more: https://www.uni.lu/fdef-en/events/lecture-of-the-jean-monnet-chair-sesame-enforcing-climate-change-sensitive-behaviours/
UID:UL-18454
LOCATION:Weicker Building 4 - rue Alphonse Weicker 2721 Luxembourg Luxembourg
URL:https://www.uni.lu/fdef-en/events/lecture-of-the-jean-monnet-chair-sesame-enforcing-climate-change-sensitive-behaviours/
X-MS-OLK-AUTOFILLLOCATION:FALSE
END:VEVENT
END:VCALENDAR