BEGIN:VCALENDAR
METHOD:PUBLISH
VERSION:2.0
BEGIN:VEVENT
DTSTART:20241003T123000
DTEND:20241003T134500
DTSTAMP:20260423T232100
SUMMARY:Joint ESM-UNILU Seminar with Prof. Laura Alfaro (Harvard Business School)
DESCRIPTION:“Industrial and Trade Policy in Supply Chains: The Case of Rare Earth Elements”\n\nAbstract\n\nIndustrial policies, traditionally aimed at boosting the competitiveness of protected sectors, can inadvertently drive productivity growth in downstream sectors abroad. We provide evidence for this mechanism by examining the case of rare earth elements – essential inputs for many manufacturing products and the green transformation. To measure the importance of rare earth inputs across manufacturing industries, we construct an input-output table that incorporates individual rare earth elements as inputs. We find that exports in rare earthintensive downstream sectors outside of China increased after the Chinese supply restrictions on rare earths. Using data on patents and sector TFP, we then show that this uptake in exports coincides with a surge in innovation towards more efficient usage of rare earth inputs. We develop a trade model with directed technical change that explains these findings, showing that industrial policy can shift the direction of innovation and drive growth in downstream sectors abroad when inputs are gross complements. We also introduce a new method for estimating production elasticities based on innovation direction and relative input prices, consistent with our trade model, and find evidence for rare earths being complementary production inputs.\n\nAbout the speaker\n\nLaura Alfaro is the Warren Alpert Professor of Business Administration.\n\nLanguage\n\nEnglish.\n\nThis is a free seminar. Registration is mandatory.\n\nCold lunches are provided to registered participants.\n\nIn partnership with\n\nThis is a joint event held with the European Stability Mechanism and the Department of Finance of the University of Luxembourg.\n\nRead more: https://www.uni.lu/fdef-en/events/joint-esm-unilu-seminar-with-prof-laura-alfaro-harvard-business-school/
UID:UL-16222
LOCATION:European Stability Mechanism 6a Circuit de La Foire Internationale 1947 Luxembourg Luxembourg
URL:https://www.uni.lu/fdef-en/events/joint-esm-unilu-seminar-with-prof-laura-alfaro-harvard-business-school/
X-MS-OLK-AUTOFILLLOCATION:FALSE
END:VEVENT
END:VCALENDAR