BEGIN:VCALENDAR
METHOD:PUBLISH
VERSION:2.0
BEGIN:VEVENT
DTSTART:20250310T170000
DTEND:20250310T190000
DTSTAMP:20260423T134900
SUMMARY:European Strategic Autonomy and European Values in the Context of Crisis
DESCRIPTION:Lecture Series - The European Union as global international actor: strategic autonomy in a changing international context\n\nThe Department of Law of the FDEF, with the support of the FNR and the Erasmus + Programme of the European Commission, and in collaboration with the Luxembourg Centre for European Law (LCEL), is organising this lecture.\n\nAbstract\n\nIn the current context of international relations, characterized by a deep crisis of multilateral cooperation and a widespread delegitimization of international institutions, strategic autonomy has become a keyword in the narrative that the European Union has developed to project the protection of its fundamental values and interests on the international stage. Through the analysis of some case studies (related to the EU's Common Commercial Policy and initiatives to regulate the digital sphere), the lecture intends to highlight the tensions that this narrative can produce on the constitutional framework of the European Union, starting from the imperative - enshrined in the EU Treaties - that the strict respect and development of international law guide the EU's external action.\n\nDiscussant: Prof. Ramses A. Wessel, University of Groningen\n\nAbout the speaker\n\nFederico Casolari is a Full Professor of EU Law and the head of Department of Legal Studies, Alma Mater Studiorum at the University of Bologna.\n\nLanguage\n\nEnglish.\n\nThis is a free event. Registration is mandatory.\n\nThe lecture will end with a short cocktail.\n\nIn collaboration with\n\nSupported by the Luxembourg National Research Fund (FNR) RESCOM/24/18832235\n\nLocation: https://www.uni.lu/en/about/campuses/weicker-building/\nRead more: https://www.uni.lu/fdef-en/events/european-strategic-autonomy-and-european-values-in-the-context-of-crisis/
UID:UL-18404
LOCATION:Weicker Building 4 - rue Alphonse Weicker 2721 Luxembourg Luxembourg
URL:https://www.uni.lu/fdef-en/events/european-strategic-autonomy-and-european-values-in-the-context-of-crisis/
X-MS-OLK-AUTOFILLLOCATION:FALSE
END:VEVENT
END:VCALENDAR