BEGIN:VCALENDAR
METHOD:PUBLISH
VERSION:2.0
BEGIN:VEVENT
DTSTART:20250612T123000
DTEND:20250612T134500
DTSTAMP:20260422T034700
SUMMARY:DF Lunch Seminar with Robert Kosowski (Imperial College London)
DESCRIPTION:“The Double-Edged Sword of The 2020 European Short-Selling Bans”\n\nWith the Lunch Seminar series, the Department of Finance is bringing eminent and up-and-coming researchers from around the world to Luxembourg.\n\nAbstract\n\nWe study the effects of short-selling bans on liquidity and prices through the lens of a model that incorporates a regulator aiming at preventing a significant price decline. Empirically, we evaluate our model’s predictions by exploiting the introduction of short-sales restrictions in some but not all European countries during the COVID-19 pandemic, while measuring the share of informed stockholders with institutional ownership. Consistent with our model, bans were detrimental to market liquidity and failed to support average returns, but were effective in limiting large price drawdowns in countries that implemented short-selling bans, especially for stocks with low institutional ownership.\n\nAbout the speaker\n\nRobert Kosowski Professor of Finance at Imperial College Business School, Imperial College London and a research fellow at the Centre for Economic Policy Research (CEPR). Since May 2021 Robert has been the Head of the Department of Finance at Imperial College Business School.\n\nLanguage\n\nEnglish.\n\nThis is a free event. Registration is mandatory.\n\nCold lunches are provided to registered participants only.\n\nLocation: https://www.uni.lu/en/about/campuses/kirchberg-campus/\nRead more: https://www.uni.lu/fdef-en/events/df-lunch-seminar-with-robert-kosowski-imperial-college-london/
UID:UL-19391
LOCATION:Kirchberg Campus 6 - rue Richard Couden­­­hove-Kalergi 1359 Luxembourg Luxembourg
URL:https://www.uni.lu/fdef-en/events/df-lunch-seminar-with-robert-kosowski-imperial-college-london/
X-MS-OLK-AUTOFILLLOCATION:FALSE
END:VEVENT
END:VCALENDAR