BEGIN:VCALENDAR
METHOD:PUBLISH
VERSION:2.0
BEGIN:VEVENT
DTSTART:20251127T123000
DTEND:20251127T134500
DTSTAMP:20260423T232000
SUMMARY:DF Lunch Seminar with Prof. Paul Fontanier (Yale University)
DESCRIPTION:“Exchange Rate Stabilization and Monetary Transmission ”\n\nWith the Lunch Seminar series, the Department of Finance is bringing eminent and up-and-coming researchers from around the world to Luxembourg.\n\nAbstract\n\nThis paper challenges the conventional Mundellian trilemma by arguing that exchange rate stabilization can enhance rather than constrain monetary policy effectiveness in emerging markets. We develop a theoretical model with segmented financial markets where domestic arbitrageurs face risk limits. We show that exchange rate stability attracts foreign investment in local-currency bonds, relaxing financial frictions on domestic arbitrageurs. This strengthens policy rate transmission to long-term yields, giving the central bank better control over the output gap. Our framework shows that it is always optimal to introduce some level of exchange rate targeting. Excessive stabilization such as a hard currency peg, however, raises policy rate volatility, offsetting these gains by increasing the amount of duration risk that must be borne by local arbitrageurs.\n\nAbout the speaker\n\nPaul Fontanier is an Assistant Professor in the Finance group at Yale SOM . He is an applied theorist with interests at the intersection of Finance and Macroeconomics. His research focuses on financial stability, with an emphasis on monetary policy and financial regulation.\n\nHe received a PhD from Harvard University in 2022 and is a graduate of Ecole Polytechnique and Corps des Mines.\n\nLanguage\n\nEnglish.\n\nThis is a free event. Registration is mandatory.\n\nCold lunches are provided to registered participants only.\n\nIn collaboration with\n\nThis event is supported by the Luxembourg National Research Fund (RESCOM/2025/LE/19440690).\n\nLocation: https://www.uni.lu/en/about/campuses/weicker-building/\nRead more: https://www.uni.lu/fdef-en/events/df-lunch-seminar-with-prof-paul-fontanier-yale-university/
UID:UL-22260
LOCATION:Weicker Building 4 - rue Alphonse Weicker 2721 Luxembourg Luxembourg
URL:https://www.uni.lu/fdef-en/events/df-lunch-seminar-with-prof-paul-fontanier-yale-university/
X-MS-OLK-AUTOFILLLOCATION:FALSE
END:VEVENT
END:VCALENDAR