BEGIN:VCALENDAR
METHOD:PUBLISH
VERSION:2.0
BEGIN:VEVENT
DTSTART:20251113T123000
DTEND:20251113T134500
DTSTAMP:20260423T232000
SUMMARY:DF Lunch Seminar with Prof. Nicola Pavanini (Tilburg University)
DESCRIPTION:To Be Announced\n\nWith the Lunch Seminar series, the Department of Finance is bringing eminent and up-and-coming researchers from around the world to Luxembourg.\n\nAbstract\n\nTo Be Announced\n\nAbout the speaker\n\nNicola Pavanini is Professor of Finance and Industrial Organization at Tilburg University.\n\nLanguage\n\nEnglish.\n\nThis is a free event. Registration is mandatory.\n\nCold lunches are provided to registered participants only.\n\nIn collaboration with\n\nThis event is supported by the Luxembourg National Research Fund (RESCOM/2025/LE/19440690).\n\nLocation: https://www.uni.lu/en/about/campuses/kirchberg-campus/\nRead more: https://www.uni.lu/fdef-en/events/df-lunch-seminar-with-prof-nicola-pavanini-tilburg-university/
UID:UL-22015
LOCATION:Kirchberg Campus 6 - rue Richard Couden­­­hove-Kalergi 1359 Luxembourg Luxembourg
URL:https://www.uni.lu/fdef-en/events/df-lunch-seminar-with-prof-nicola-pavanini-tilburg-university/
X-MS-OLK-AUTOFILLLOCATION:FALSE
END:VEVENT
END:VCALENDAR