BEGIN:VCALENDAR
METHOD:PUBLISH
VERSION:2.0
BEGIN:VEVENT
DTSTART:20250311T123000
DTEND:20250311T134500
DTSTAMP:20260422T181300
SUMMARY:DF Lunch Seminar with Prof. Ciaran Rogers (HEC)
DESCRIPTION:"Risky Insurance: Life-cycle Insurance Portfolio Choice with Incomplete Markets"\n\nWith the Lunch Seminar series, the Department of Finance is bringing eminent and up-and-coming researchers from around the world to Luxembourg.\n\nAbout the speaker\n\nCiaran Rogers is an Assistant Professor of Finance at HEC Paris.\n\nLanguage\n\nEnglish.\n\nThis is a free event. Registration is mandatory.\n\nCold lunches are provided to registered participants only.\n\nLocation: https://www.uni.lu/en/about/campuses/kirchberg-campus/\nRead more: https://www.uni.lu/fdef-en/events/df-lunch-seminar-with-prof-ciaran-rogers-hec/
UID:UL-18639
LOCATION:Kirchberg Campus 6 - rue Richard Couden­­­hove-Kalergi 1359 Luxembourg Luxembourg
URL:https://www.uni.lu/fdef-en/events/df-lunch-seminar-with-prof-ciaran-rogers-hec/
X-MS-OLK-AUTOFILLLOCATION:FALSE
END:VEVENT
END:VCALENDAR