BEGIN:VCALENDAR
METHOD:PUBLISH
VERSION:2.0
BEGIN:VEVENT
DTSTART:20241205T123000
DTEND:20241205T134500
DTSTAMP:20260423T231900
SUMMARY:DF Lunch Seminar with Prof. Benjamin Roth (Harvard Business School)
DESCRIPTION:“When Microcredit Hurts: Over-indebtedness in the Covid-19 Pandemic”\n\nWith the Lunch Seminar series, the Department of Finance is bringing eminent and up-and-coming researchers from around the world to Luxembourg.\n\nAbstract\n\nCan a credit injection prior to an economic shock hurt small business outcomes? Exploiting a microfinance institution's surprise credit freeze at the onset of Chile's 2020 Covid shutdown, we compare small business owners who applied for a loan just before the freeze versus those who applied just afterwards, with the former group receiving about USD 600 additional credit just prior to the shutdown. Three months later, businesses that received credit were 35 percentage points (61%) less likely to be open, and had on average USD 167 (58%) lower profits per month. Three years later, they are 11 percentage points (25%) less likely to be a borrower at the microfinance institution, and we present suggestive evidence that their businesses are still less likely to be open. In survey questions, the business owners who took loans just before the shutdown report that they would not have done so if they had known about the impending shutdown, and they would have spent the loan differently (e.g. had they known about the shutdown they would have spent the money on non-perishable staples). We draw implications for policy.\n\nAbout the speaker\n\nBenjamin N. Roth is the Purnima Puri and Richard Barrera Associate Professor of Business Administration in the Entrepreneurial Management Unit.\n\nLanguage\n\nEnglish.\n\nThis is a free event. Registration is mandatory.\n\nCold lunches are provided to registered participants.\n\nIn partnership with\n\nSupported by the Luxembourg National Research Fund (FNR) 17984041\n\nLocation: https://www.uni.lu/en/about/campuses/kirchberg-campus/\nRead more: https://www.uni.lu/fdef-en/events/df-lunch-seminar-with-prof-benjamin-roth-harvard-business-school/
UID:UL-17282
LOCATION:Kirchberg Campus 6 - rue Richard Couden­­­hove-Kalergi 1359 Luxembourg Luxembourg
URL:https://www.uni.lu/fdef-en/events/df-lunch-seminar-with-prof-benjamin-roth-harvard-business-school/
X-MS-OLK-AUTOFILLLOCATION:FALSE
END:VEVENT
END:VCALENDAR