BEGIN:VCALENDAR
METHOD:PUBLISH
VERSION:2.0
BEGIN:VEVENT
DTSTART:20251002T123000
DTEND:20251002T134500
DTSTAMP:20260423T232100
SUMMARY:DF Lunch Seminar with Prof. Asaf Bernstein (University of Colorado)
DESCRIPTION:"The Costs of Curbing Speculation: Evidence from the Establishment of "Investment Grade""\n\nWith the Lunch Seminar series, the Department of Finance is bringing eminent and up-and-coming researchers from around the world to Luxembourg.\n\nAbstract\n\nSevere economic distress that provokes regulators to curb speculation by financial institutions may have unintended costs for non-financial firms. In 1936 the Comptroller of the Currency unexpectedly announced just such a regulation, stating that supervised banks were no longer eligible to purchase securities rated below “investment grade”. Using a differences-in-differences design I provide the first evidence on the costs of the establishment of federal rating-based investment restrictions. I find a sudden persistent rise in speculative bond yields after the announcement, even comparing bonds within the same firm, and a substantial decline in equity value for firms reliant on external speculative debt financing. Anecdotal and empirical evidence suggests that effects of the regulation were exacerbated by the reliance on ratings. Firms reduced the size of their debt issuances in order to “game” the ratings, leading to reduced investment and slower asset growth in subsequent years. Since these restrictions were broad, affecting almost half of even publicly traded corporate bonds, they likely had important macroeconomic implications and may have even played a role in the size of the 1937-1938 recession.\n\nAbout the speaker\n\nAsaf Bernstein is an associate professor of finance at the University of Colorado at Boulder's Leeds School of Business and a Faculty Research Fellow in the National Bureau of Economic Research.\n\nLanguage\n\nEnglish.\n\nThis is a free event. Registration is mandatory.\n\nCold lunches are provided to registered participants only.\n\nLocation: https://www.uni.lu/en/about/campuses/weicker-building/\nRead more: https://www.uni.lu/fdef-en/events/df-lunch-seminar-with-prof-asaf-bernstein-university-of-colorado/
UID:UL-21209
LOCATION:Weicker Building 4 rue Alphonse Weicker 2721 Luxembourg Luxembourg
URL:https://www.uni.lu/fdef-en/events/df-lunch-seminar-with-prof-asaf-bernstein-university-of-colorado/
X-MS-OLK-AUTOFILLLOCATION:FALSE
END:VEVENT
END:VCALENDAR