BEGIN:VCALENDAR
METHOD:PUBLISH
VERSION:2.0
BEGIN:VEVENT
DTSTART:20250327T123000
DTEND:20250327T134500
DTSTAMP:20260423T205100
SUMMARY:DF Lunch Seminar with José Rodríguez Mora (University of Edinburgh)
DESCRIPTION:“The Role of Industries in Rising Inequality”\n\nWith the Lunch Seminar series, the Department of Finance is bringing eminent and up-and-coming researchers from around the world to Luxembourg.\n\nAbstract\n\nWe find that majority of the rise in earnings and wage inequality in Italy between 1985 and 2018 took place between firms and that this was mainly driven by the divergence of pay between firms in different industries. The growth in inequality was extremely concentrated with just 5% of industries accounting for all of the increase in between-industry variance. The rise in inequality was predominantly driven by rising employment in low-paying industries and to a lesser extent by increasing earnings of high-paying industries. The patterns of rising inequality in Italy are remarkably similar to the ones identified for the USA which suggests a common explanation centred around industry-level labour demand shifts.\n\nAbout the speaker\n\nJosé Rodriguez Mora is a Professor of Economics at the University of Edinburgh.\n\nLanguage\n\nEnglish.\n\nThis is a free event. Registration is mandatory.\n\nCold lunches are provided to registered participants.\n\nLocation: https://www.uni.lu/en/about/campuses/kirchberg-campus/\nRead more: https://www.uni.lu/fdef-en/events/df-lunch-seminar-with-jose-rodriguez-mora-university-of-edinburgh/
UID:UL-18386
LOCATION:Kirchberg Campus 6 - rue Richard Couden­­­hove-Kalergi 1359 Luxembourg Luxembourg
URL:https://www.uni.lu/fdef-en/events/df-lunch-seminar-with-jose-rodriguez-mora-university-of-edinburgh/
X-MS-OLK-AUTOFILLLOCATION:FALSE
END:VEVENT
END:VCALENDAR