BEGIN:VCALENDAR
METHOD:PUBLISH
VERSION:2.0
BEGIN:VEVENT
DTSTART:20241120T123000
DTEND:20241120T140000
DTSTAMP:20260424T023400
SUMMARY:Constitutional Identity reaches Ireland: Implications for European Integration
DESCRIPTION:This event is organized by the Department of Law at the University of Luxembourg.\n\nAbstract\n\nIn Costello v Government of Ireland [2022] IESC 44, the Irish Supreme Court invoked constitutional identity for the first time, in the context of deeming unconstitutional the Government’s proposed ratification of the Canada EU Comprehensive Economic and Trade Agreement (CETA). This paper explores the Court’s understanding of constitutional identity, its implications for European integration and for the ratification of CETA and future mixed agreements, as well as the capacity for constitutional identity to function as a constraint on legal powers.\n\nAbout the speaker\n\nOran Doyle is a Research professor at Academia Sinica, Taiwan and a Professor in Law at Trinity College Dublin, Ireland.\n\nLanguage\n\nEnglish.\n\nThis is a free event. Registration is mandatory.\n\nLocation: https://www.uni.lu/en/about/campuses/weicker-building/\nRead more: https://www.uni.lu/fdef-en/events/constitutional-identity-reaches-ireland-implications-for-european-integration/
UID:UL-17276
LOCATION:Weicker Building 4 rue Alphonse Weicker 2721 Luxembourg Luxembourg
URL:https://www.uni.lu/fdef-en/events/constitutional-identity-reaches-ireland-implications-for-european-integration/
X-MS-OLK-AUTOFILLLOCATION:FALSE
END:VEVENT
END:VCALENDAR