BEGIN:VCALENDAR
METHOD:PUBLISH
VERSION:2.0
BEGIN:VEVENT
DTSTART:20240613T130000
DTEND:20240614T130000
DTSTAMP:20260424T073300
SUMMARY:Conference on adequate minimum wages in the EU
DESCRIPTION:The Department of Law of the Faculty of Law, Economics and Finance is pleased to invite you a conference on Adequate Minimum Wages in the EU\n\nAbstract:\n\nThe issue of how wage policies are set, and minimum wages are regulated across EU Member States has been for long at the core of both national and EU strategies. Since the adoption of Directive 2022/2041 on adequate minimum wages in the EU (the AMWD), the legal framework has significantly changed.\n\nThe AMWD is probably the most important piece of legislation in the field of EU social policy in the last two decades. The conference “Adequate Minimum Wages in the EU” will deep dive into the context and interpretation of the AMWD.\n\nOpen to all, the conference involves professionals, academics, and students, as well as major stakeholders, to discuss on the AMWD’s systemic impact and its future implementation.\n\nThe conference will also be the occasion to present the book edited by L. Ratti, E. Brameshuber and V. Pietrogiovanni, The EU Directive on Adequate Minimum Wages. Context, Commentary and Trajectories (Hart Publishing, 2024).\n\nLanguage: English\n\nThis is a free conference. Registration is mandatory.\n\nProgramme\n\nThursday, 13 June 2024\n\n13.00 - 14.00\n\nWelcome Light Lunch\n\n14.00 - 14.30\n\nIntroduction\n\nLuca Ratti, University of Luxembourg\n\nSession I - A long road towards the regulation of minimum wages in the EU\nChair: Luca Ratti, University of Luxembourg\n\n14.30 - 14.50\n\nRationale for EU intervention on minimum wages\n\nErika Kovács, WU Vienna University of Economics and Business\n\n14.50 - 15.10\n\nThe competence conundrum and alternative legal bases\n\nSacha Garben, College of Europe (Bruges)\n\n15.10 - 15.30\n\nThe material scope of the Adequate Minimum Wages Directive\n\nMijke Houwerzijl, University of Tilburg\n\n15.30 - 16.00\n\nQ&A - Discussion\n\n16.00 - 16.30\n\nCoffee break\n\nSession II - The main features of the Adequate Minimum Wages Directive\nChair: Elisabeth Brameshuber, University of Vienna\n\n16.30 - 16.50\n\nThe Adequate Minimum Wages Directive and the promotion of collective bargaining\n\nAntonio Lo Faro - University of Catania\n\n16.50 - 17.10\n\nEnsuring adequacy of minimum wages – mission impossible?\n\nAdam Sagan, University of Bayreuth\n\n17.10 - 17.30\n\nThe role of social partners regulating minimum wages\n\nTorsten Müller, ETUI\n\nThorsten Schulten, Hans-Böckler Stiftung\n\n17.30 - 18.00\n\nQ&A - Discussion\n\nFriday, 14 June 2024\n\nSession III (Roundtable) - The impact of the Adequate Minimum Wages Directive in the Member States\nChair: Vincenzo Pietrogiovanni, University of Southern Denmark\n\n09.00 - 10.30\n\nGermany\n\nMonika Schlachter, Professor Emeritus, University of Trier\n\nItaly\n\nOrsola Razzolini, University of Milan\n\nSweden\n\nPetra Herzfeld Olsson, Stockholm University\n\nHungary\n\nTamás Gyulavári, Pázmány Péter Catholic University Budapest\n\n10.30 - 11.00\n\nQ&A - Discussion\n\n11.00 - 11.30\n\nCoffee break\n\nSession IV - The Adequate Minimum Wages Directive and the future of Labour Law in Europe\nChair: Elisabeth Brameshuber, University of Vienna\n\n11.30 - 13.00\n\nSylvaine Laulom, French Cour de Cassation\n\nFranz Marhold, Professor Emeritus and Member European Committee of Social Rights, Council of Europe\n\nClaudia Schubert, University of Hamburg\n\n13.00\n\nEnd of conference\n\nThis event will be partially filmed. If you do not wish to be filmed, please inform the organisers on site.\n\nSupported by the Luxembourg National Research Fund (FNR) 18786463\n\nLocation: https://www.uni.lu/en/about/campuses/weicker-building/\nRead more: https://www.uni.lu/fdef-en/events/conference-on-adequate-minimum-wages-in-the-eu/
UID:UL-9734
LOCATION:Weicker Building 4 - rue Alphonse Weicker 2721 Luxembourg Luxembourg
URL:https://www.uni.lu/fdef-en/events/conference-on-adequate-minimum-wages-in-the-eu/
X-MS-OLK-AUTOFILLLOCATION:FALSE
END:VEVENT
END:VCALENDAR