BEGIN:VCALENDAR
METHOD:PUBLISH
VERSION:2.0
BEGIN:VEVENT
DTSTART:20240729T090000
DTEND:20240730T170000
DTSTAMP:20260420T084500
SUMMARY:CEPR-ESSEC-Luxembourg Conference on Sustainable Financial Intermediation
DESCRIPTION:The University of Luxembourg, together with ESSEC Business School, and the Centre for Economic Policy Research (CEPR) is organizing a conference on “Sustainable Financial Intermediation in Credit and Housing Markets” in the Moselle wine region of Luxembourg.\n\nThe objective of this conference is to bring together a small group of researchers in a stimulating and pleasant atmosphere. The conference is open to all participants but with a limited number of seats, and the priority will be given to academics and researchers at central banks and other policy institutions.\n\nThe conference will feature the presentation of 8 papers (& 8 discussions) with a focus on (but not limited to) the financing of “green” assets, a session for PhD students, and a keynote presentation from Adriano Rampini (Duke University, NBER, CEPR, FARFE), and several opportunities for knowledge exchange and networking.\n\nScientific committee:\n\nPatrick Augustin, McGill University\n\nTobias Berg, Goethe University & CEPR\n\nMartin Brown, Study Center Gerzensee & CEPR\n\nJean-Edouard Colliard, HEC Paris & CEPR\n\nDragana Cvijanovic, Cornell University\n\nRalph de Haas, EBRD & CEPR\n\nHans Degryse, KULeuven & CEPR\n\nKornelia Fabisik, University of Bern & CEPR\n\nEmilia Garcia-Appendini, Norges Bank\n\nChristoph Herpfer, University of Virginia\n\nBjörn Imbierowicz, Deutsche Bundesbank\n\nMartina Jasova, Columbia University\n\nFrederic Malherbe, University College London & CEPR\n\nCamelia Minoiu, Federal Reserve Bank of Atlanta\n\nVesa Pursiainen, University of St. Gallen\n\nMaximilian Rohrer, NHH\n\nMagdalena Rola-Janicka, Imperial College & CEPR\n\nLarissa Schäfer, Frankfurt School of Finance and Management & CEPR\n\nVictoria Vanasco, CREI & CEPR\n\nSergio Vicente, University of Luxembourg\n\nJing Zeng, University of Bonn & CEPR\n\nProgramme\n\nMonday, 29 July 2024\n\n08.45 - 09.00\n\nOpening words\n\nDiane Pierret, University of Luxembourg\n\nFinancing Green Firms: Regulation And Lobbying\nChair: Diane Pierret, University of Luxembourg & CEPR\n\n09.00 - 10.40\n\nCorporate Climate Lobbying\n\nPresenter: Tingyu Yu, University of Zurich\n\nDiscussant: Luke Stein, Babson College\n\nCo-authors:\n\nMarkus Leippold, University of Zurich & SFI\n\nZacharias Sautner, University of Zurich, SFI, ECGI, & CEPR\n\nThe Real Effects of Sustainable Finance Regulation\n\nPresenter: Andrea Fabiani, Bank of Italy\n\nDiscussant: Christoph Herpfer, UVA Darden School of Business\n\nCo-authors:\n\nFrancesco Columba, Bank of Italy\n\nRaffaelle Gallo, Bank of Italy\n\nGiorgio Meucci, Bank of Italy\n\n10.40 - 10.55\n\nCoffee break\n\nGreen Loans to Households\nChair: Artashes Karapetyan, ESSEC Business School\n\n10.55 - 12.35\n\nDo ESG investors care about carbon emissions? Evidence from securitized auto loans\n\nPresenter: Christian Kontz, Stanford Graduate School of Business\n\nDiscussant: Tim Eisert, Nova school of Business and Economics & CEPR\n\nPicking Up the PACE: Loans for Residential Climate-Proofing\n\nPresenter: Francesco Mazzola, ESCP Business School\n\nDiscussant: Christophe Spaenjers, University of Colorado Boulder\n\nCo-authors:\n\nAymeric Bellon, UNC Chapel-Hill\n\nCameron LaPoint, Yale SOM\n\nGuosong Xu, Erasmus University & RSM\n\n12.35 - 13.45\n\nLunch break\n\nDoctorates short presentations\nChair: Luciano Somoza, ESSEC Business School\n\n13.45 - 15.05\n\nGreen Neighbors, Greener Neighborhoods\n\nChristine Zhuowei Huang, University of Texas\n\nFlooded House or Underwater Mortgage? The Implications of Rising Climate Risk and Adaptation on Housing, Income, and Wealth\n\nYasmine Van Der Straten, University of Amsterdam & Tinbergen Institute\n\nFemale Skin in the Game: Bridging the Gender Financing Gap\n\nKristine Sahakyan, ESCP Business School\n\nBank Competition and Entrepreneurial Gaps Evidence from Bank Deregulation\n\nXiang Li, Boston College\n\nKeynote session\nChair: Roberto Steri, University of Luxembourg\n\n15.05 - 16.05\n\nFinancing the Adoption of Clean Technology\n\nPresenter: Adriano Rampini, Duke's Fuqua School of Business & CEPR\n\nCo-author: Andrea Lanteri, Duke's Fuqua School of Business & CEPR\n\n16.30 onward\n\nDiscovery of the Mosel Region and Dinner\n\nBy invitation only\n\nTuesday, 30 July 2024\n\nGreen Measurement\nChair: Roméo Tédongap, ESSEC Business School\n\n09.00 - 10.40\n\nYour Carbon Footprint, Including Investments: An Industry-Tailored Metric of Investment and Consumption Impact,\n\nPresenter: Eva Schliephake, Católica Lisbon School of Business and Economics\n\nDiscussant: David Martínez Miera, Carlos III University & CEPR\n\nCo-author: Hendrik Hakenes, University of Bonn\n\nMarket-based green firms\n\nPresenter: Oliver Rehbein, WU Vienna & VGSF\n\nDiscussant: Michela Altieri, Luiss Guido Carli University\n\nCo-authors:\n\nKonrad Adler, University of St Gallen\n\nMatthias Reiner, WU Vienna & VGSF\n\nJing Zeng, University of Bonn & CEPR\n\n10.40 - 10.55\n\nCoffee break\n\nGreen Transition: Solving Incentive Problems\nChair: Martina Fraschini, University of Luxembourg\n\n11.00 - 12.40\n\nInvestor Activism and the Green Transition,\n\nPresenter: Simon Mayer, Carnegie Mellon University\n\nDiscussant: Sebastian Pfeil, University of Groningen\n\nCo-authors:\n\nSebastian Gryglewicz, Erasmus University Rotterdam\n\nErwan Morellec, EPFL & SFI\n\nCapital regulation in the presence of physical climate risk,\n\nPresenter: Natalya Martynova, Deutsche Bundesbank\n\nDiscussant: Sergio Vicente, University of Luxembourg\n\nCo-author: Kartik Anand, Deutsche Bundesbank\n\n12.40 - 13.00\n\nClosing words\n\n13.00 - 14.30\n\nClosing lunch\n\nOrganisers:\n\nDiane Pierret, University of Luxembourg & CEPR\n\nArtashes Karapetyan, ESSEC Business School\n\nContact:\n\nsfi.submissions@uni.lu\n\nAn event supported by the Luxembourg National Research Fund (INTER/ANR/21/15863559/GREENFINHOME), the University of Luxembourg, ESSEC Business School, and the Centre for Economic Policy Research (CEPR).\n\nRead more: https://www.uni.lu/fdef-en/events/cepr-essec-luxembourg-conference-on-sustainable-financial-intermediation/
UID:UL-9544
LOCATION:Mercure Luxembourg Kikuoka Golf and Spa Scheierhaff 5412 Canach Luxembourg
URL:https://www.uni.lu/fdef-en/events/cepr-essec-luxembourg-conference-on-sustainable-financial-intermediation/
X-MS-OLK-AUTOFILLLOCATION:FALSE
END:VEVENT
END:VCALENDAR