BEGIN:VCALENDAR
METHOD:PUBLISH
VERSION:2.0
BEGIN:VEVENT
DTSTART:20241203T120000
DTEND:20241203T130000
DTSTAMP:20260424T051200
SUMMARY:Book presentation - Dr. Pflücke - Compliance with European Consumer Law
DESCRIPTION:Compliance with European Consumer Law\n\nGuests:\n\nProf. Dirk Zetzsche, University of Luxembourg\n\nProf. Stephan Weatherill, University of Oxford\n\nProf. Dorota Leczykiewicz, University of Oxford\n\nonline presentation\n\nThe link for the registered persons will be sent the day before the book presentation.\n\nLanguage\n\nEnglish.\n\nThis is a free event. Registration is mandatory.\n\nLocation: https://www.uni.lu/en/about/campuses/weicker-building/\nRead more: https://www.uni.lu/fdef-en/events/book-presentation-dr-pflucke-compliance-with-european-consumer-law/
UID:UL-17279
LOCATION:Weicker Building
URL:https://www.uni.lu/fdef-en/events/book-presentation-dr-pflucke-compliance-with-european-consumer-law/
X-MS-OLK-AUTOFILLLOCATION:FALSE
END:VEVENT
END:VCALENDAR