BEGIN:VCALENDAR
METHOD:PUBLISH
VERSION:2.0
BEGIN:VEVENT
DTSTART:20241209T120000
DTEND:20241209T140000
DTSTAMP:20260424T055200
SUMMARY:Roundtable: AI Act and the Ecosystem of Justice
DESCRIPTION:Balancing Innovation and Accountability\n\nAbstract\n\nThe purpose of this roundtable is to delve into the transformative impact of the AI Act on the justice ecosystem and the legal services sector. The roundtable will explore how the AI Act influences the integration of AI technologies in legal processes, balancing the pursuit of innovation with the imperative of accountability and fairness. Participants will examine key topics such as ethical AI deployment and transparency, as well as the challenges of aligning regulation with rapidly evolving technologies. By fostering a multidisciplinary dialogue, the roundtable aims to provide insights to shape the future of justice in the AI era. This event is co-organised by the University of Luxembourg and Athens Legal Tech.\n\nLanguage\n\nEnglish.\n\nThis is a free hybrid event. Registration is mandatory.\n\nProgramme\n\n12.00 - 12.30\n\nWelcome lunch\n\n12.30 - 12.35\n\nOpening remarks\n\n12.35 - 12.45\n\nRegulating AI in the Justice Sector: Opportunities and Challenges\n\nKonstantinos P. Anagnostopoulos, Attorney at Law/Director, Athens Legal Tech/ ELTA Greece\n\n12.45 - 14.00\n\nRoundtable discussion\n\nChair - Niovi Vavoula, Associate Professor and Chair in Cyber Policy, Faculty of Law, Economics and Finance, University of Luxembourg\n\nDiscussants:\n\nPeteris Zilgalvis, Judge at the Court of Justice of the European Union\n\nMarco Almada, Postdoctoral researcher, Faculty of Law, Economics and Finance, University of Luxembourg\n\nKelly Xintara, Legal Advisor, Luxembourg Chamber of Commerce\n\nAstrid Wagner, Partner, Arendt\n\nMarianna Rantou, Legal Secretary (Référendaire), Court of Justice of the European Union\n\nIn partnership with\n\nLocation: https://www.uni.lu/en/about/campuses/weicker-building/\nRead more: https://www.uni.lu/fdef-en/events/ai-act-and-the-ecosystem-of-justice/
UID:UL-17699
LOCATION:Weicker Building 4 - rue Alphonse Weicker 2721 Luxembourg Luxembourg
URL:https://www.uni.lu/fdef-en/events/ai-act-and-the-ecosystem-of-justice/
X-MS-OLK-AUTOFILLLOCATION:FALSE
END:VEVENT
END:VCALENDAR