BEGIN:VCALENDAR
METHOD:PUBLISH
VERSION:2.0
BEGIN:VEVENT
DTSTART:20250326T170000
DTEND:20250326T210000
DTSTAMP:20260422T191700
SUMMARY:Academia meets Industry: ESG Reporting and Firm Competitiveness
DESCRIPTION:The Department of Finance at the Faculty of Law, Economics and Finance and PwC Luxembourg are pleased to invite you to their event.\n\nThe Department of Finance at the Faculty of Law, Economics and Finance and PwC Luxembourg are pleased to invite you to an exclusive Academia Meets Industry event on "ESG Reporting and Firm Competitiveness", where we will explore the intricate balance between sustainability disclosures and corporate performance. Building on the insights of the Draghi Report, this event will highlight both the trade-offs and synergies between firms’ non-financial reporting and their ability to remain competitive in a global market. The keynote address will be delivered by Professor Alexander Bassen (University of Hamburg), a leading expert in corporate finance and capital markets. A panel discussion featuring distinguished industry and academic voices will follow, fostering a thought-provoking exchange on the evolving sustainability landscape. Join us for this timely conversation bridging theory and practice!\n\nThe event is organized within the framework of the Chair in Sustainable Finance, which is supported by the Luxembourg Ministry of Finance and the Luxembourg Ministry of Environment, Climate and Biodiversity.\n\nLanguage\n\nEnglish\n\nThis is a free seminar. Registration is mandatory.\n\nProgramme\n\nModerator: François Koulischer, University of Luxembourg\n\nWelcome\n\nKenny Panjanaden, PwC\n\nKeynote presentation\n\nAlexander Bassen, University of Hamburg\n\nPanel discussion on " ESG Reporting and Firm Competitiveness", with\n\nDiscussants:\n\nAlexander Bassen, University of Hamburg\n\nTertius Beneke, Cargolux\n\nGeoffroy Marcassoli, PwC\n\nJuliette Petit, Chamber of Commerce\n\nGraduation ceremony for Certificate in Sustainable Finance hosted by Kenny Panjanaden (PwC) and Peter Mathis (University of Luxembourg)\n\nCocktail Reception\n\nIn partnership with\n\nRead more: https://www.uni.lu/fdef-en/events/academia-meets-industry-esg-reporting-and-firm-competitiveness/
UID:UL-18893
LOCATION:PwC Luxembourg 2 Rue Gerhard Mercator 2182 Luxembourg Luxembourg
URL:https://www.uni.lu/fdef-en/events/academia-meets-industry-esg-reporting-and-firm-competitiveness/
X-MS-OLK-AUTOFILLLOCATION:FALSE
END:VEVENT
END:VCALENDAR