BEGIN:VCALENDAR
METHOD:PUBLISH
VERSION:2.0
BEGIN:VEVENT
DTSTART:20241128T090000
DTEND:20241128T170000
DTSTAMP:20260423T232000
SUMMARY:9th Inclusive and Sustainable Finance Research Conference
DESCRIPTION:Abstract\n\nAt the University of Luxembourg Inclusive and Sustainable Finance Research Conference, research and network partners with an interest in inclusive and sustainable finance present current edge research and policy initiatives. Participants include practitioners, policy leaders, and academics with an interest in inclusive and sustainable finance.\n\nLanguage\n\nEnglish.\n\nThis is a free hybrid event. Registration is mandatory.\n\nProgramme\n\n9.00 - 09.30\n\nWords of Welcome\n\nMathilde Bauwin, ADA\n\nNicoletta Centofanti, Luxembourg Sustainable Finance Initiative\n\nProf. Dirk Zetzsche, ADA Chair in Financial Law and Inclusive Finance, University of Luxembourg\n\n9.30 - 10.00\n\nKeynote Presentation – The Use of Climate Scenarios for the Assessment of Climate risks: Towards Scenario-contingent Climate Regulation (online)\n\nProf. Thom Wetzer, Associate Professor of Law and Finance, University of Oxford\n\n10.00 - 11.40\n\nFirst Session: Impact Investing\n\nChair: Assist. Prof. Julia Sinnig, University of Luxembourg\n\nDiscussants:\n\nRegulation of Impact Investing? - Marian Unterstell, Doctoral researcher, ADA Chair in Financial Law (inclusive finance) & Prof. Zetzsche\n\nBlended Finance - Prof. Dirk Zetzsche & Pedro Vilanculo, Doctoral researcher, ADA Chair in Financial Law (inclusive finance)\n\nAIFs for Impact - Laetitia Duren, Counsel – Impact Finance Team, Arendt & Medernach\n\n11.40 - 12.00\n\nCoffee break\n\n12.00 - 13.15\n\nSecond Session: Sustainable Finance Markets\n\nChair: Dr Marco Bodellini, Research scientist, University of Luxembourg\n\nDiscussants:\n\nDatafication of Sustainable Finance - Prof. Dirk Zetzsche & Marian Unterstell\n\nHow to monetise the value of gender equality - Stephan Rudolph, Founder, EVITY S.A.\n\nPaper presentation: Pham/Halling/Paulus/Hale, “Country-level Carbon Budgets and Economic Development” - Han Pham, Doctoral researcher, Chair in Sustainable Finance, University of Luxembourg\n\n13.15 - 14.15\n\nLunch break\n\n14.00 - 14.45\n\nThird Session: Regulation of Sustainable Finance\n\nChair: Prof. Dirk Zetzsche, ADA Chair in Financial Law and Inclusive Finance, University of Luxembourg\n\nDiscussants:\n\n“Greenwashing” in investment intermediation: investor protection and the difficult role of enforcement - Prof. Eugenia Macchiavello, Associate Professor in Economic Law, University of Genoa\n\nGreen Gatekeepers (online) - Prof. Alessandro Romano, Assistant Professor of Law, Bocconi University\n\nThe EU’s Corporate Sustainability Disclosure Directive: A role model for the world? - Prof. Julia Sinnig, Assistant Professor in Commercial Law, University of Luxembourg\n\n15.30 - 15.45\n\nCoffee break\n\n15.45 - 17.00\n\nFourth Session: Measurement and Impact of Financial Inclusion\n\nChair: Dr Marco Bodellini, Research scientist, University of Luxembourg\n\nDiscussants:\n\nAguilar/Frost/Guerra/Kamin/Tombini, Digital payments, informality and economic growth (online) - Rafael Guerra, Macroeconomic Analyst, Bank for International Settlements\n\nEnvironmental impact of inclusive finance - Lessons learnt from practice - Mathilde Bauwin, Head Knowledge Team, ADA\n\nMeasuring Financial Inclusion - Prof. Julia Sinnig, Assistant Professor in Commercial Law, University of Luxembourg & Carmen Preda, Doctoral researcher, ADA Chair in Financial Law (inclusive finance)\n\nConference presentations\n\nIn partnership with\n\nLocation: https://www.uni.lu/en/about/campuses/weicker-building/\nRead more: https://www.uni.lu/fdef-en/events/9th-inclusive-and-sustainable-finance-research-conference/
UID:UL-17210
LOCATION:Weicker Building 4 - rue Alphonse Weicker 2721 Luxembourg Luxembourg
URL:https://www.uni.lu/fdef-en/events/9th-inclusive-and-sustainable-finance-research-conference/
X-MS-OLK-AUTOFILLLOCATION:FALSE
END:VEVENT
END:VCALENDAR