BEGIN:VCALENDAR
METHOD:PUBLISH
VERSION:2.0
BEGIN:VEVENT
DTSTART:20241121T103000
DTEND:20241121T120000
DTSTAMP:20260422T111500
SUMMARY:Women Leaders: From Montreal to Mars
DESCRIPTION:Dr Farah Alibay, a systems engineer at NASA’s Jet Propulsion Laboratory\n\nDr Farah Alibay has been an aerospace engineer who, for over 10 years, has worked on building robots that explore our solar system. In her talk, she describes her career path, as a daughter of Canadian immigrants, along with the obstacles she faced along the way. She approaches subjects like racism, sexism, allyship, the imposters syndrome and much more, in an open and personal style. The lecture will be followed by an in-depth Q&A.\n\nFor more information please send an email to gender.equality@uni.lu\n\nLocation: https://www.uni.lu/snt-en/contact/\nRead more: https://www.uni.lu/en/events/women-leaders-dr-farah-alibay/
UID:UL-33133
LOCATION:JFK Building 29 - Avenue J.F Kennedy 1855 Luxembourg Luxembourg
URL:https://www.uni.lu/en/events/women-leaders-dr-farah-alibay/
X-MS-OLK-AUTOFILLLOCATION:FALSE
END:VEVENT
END:VCALENDAR