BEGIN:VCALENDAR
METHOD:PUBLISH
VERSION:2.0
BEGIN:VEVENT
DTSTART:20231120T123000
DTEND:20231120T133000
DTSTAMP:20260421T042800
SUMMARY:UniTalks – Sports Analytics: when figures are more than numbers
DESCRIPTION:UniTalks is a lunchtime series that gives you the chance to discover and discuss interesting projects going on at the University.\n\nThis November, Dive into the world of sport analytics with Prof. Christophe Ley, Associate Professor in Mathematics. This online lunchtime session, which is open to all, will bridge the gap between the football field and the data behind it.\n\nAbstract\n\nThis talk will provide a gentle introduction to the growing world of sport analytics.\n\nAfter talking about its genesis and giving some striking examples from professional sports, Prof. Ley will describe how we can use probability distributions to model the outcomes of football matches.\n\nHe will also show how this can be combined with machine learning procedures to predict big tournaments and even outperform bookmakers.\n\nHe will conclude with an outlook on how these findings can be translated to sports medicine and, in particular, the estimation of injury risks.\n\nLocation: https://unilu.webex.com/wbxmjs/joinservice/sites/unilu/meeting/download/17ae63e4437a482fbe5f7b0520853f3b?siteurl=unilu&MTID=m09fb5f12779867d354fb2ed5a63d227c\nRead more: https://www.uni.lu/en/events/unitalks-sports-analytics-when-figures-are-more-than-numbers/
UID:UL-19170
LOCATION:Webex
URL:https://www.uni.lu/en/events/unitalks-sports-analytics-when-figures-are-more-than-numbers/
X-MS-OLK-AUTOFILLLOCATION:FALSE
END:VEVENT
END:VCALENDAR