BEGIN:VCALENDAR
METHOD:PUBLISH
VERSION:2.0
BEGIN:VEVENT
DTSTART:20240617T123000
DTEND:20240617T133000
DTSTAMP:20260420T174400
SUMMARY:UniTalks – 5 steps to bridge the mental health gap: Universal Mental Health Training
DESCRIPTION:UniTalks is a lunchtime series that gives you the chance to discover and discuss interesting projects going on at the University. \n\nHow can frontline professionals be better equipped to deal with the mental health needs of the population they serve? \n\nIn her UniTalk, Viktoriia Gorbunova Sc.D, a Marie Skłodowska-Curie (MSCA) Postdoctoral Fellow at the University of Luxembourg, will share findings from the Universal Mental Health Training project. \n\nThe specialised programme is designed to provide mental health training to frontline professionals such as teachers, pharmacists, social workers and police officers. \n\nIt consists of 5 relatively simple but highly important steps and aims to bridge the need for mental health support with a lack of awareness and people's reluctance to ask for help. \n\nDuring the talk, Viktoriia will introduce the five-step algorithm for mental health support and referral and present the results from the implementation of the training in Ukraine before and after the full-scale Russian invasion.\n\nLocation: https://unilu.webex.com/unilu/j.php?MTID=m37c801900980df0e027cee9c6a1121e0\nRead more: https://www.uni.lu/en/events/unitalks-5-steps-to-bridge-the-mental-health-gap-universal-mental-health-training/
UID:UL-26346
LOCATION:Webex
URL:https://www.uni.lu/en/events/unitalks-5-steps-to-bridge-the-mental-health-gap-universal-mental-health-training/
X-MS-OLK-AUTOFILLLOCATION:FALSE
END:VEVENT
END:VCALENDAR